Back to Multiple platform build/check report for BioC 3.12
AB[C]DEFGHIJKLMNOPQRSTUVWXYZ

BUILD BIN report for ccrepe on tokay1

This page was generated on 2021-02-22 12:37:17 -0500 (Mon, 22 Feb 2021).

To the developers/maintainers of the ccrepe package:
Please make sure to use the following settings in order to reproduce any error or warning you see on this page.
Package 246/1974HostnameOS / ArchINSTALLBUILDCHECKBUILD BIN
ccrepe 1.26.0
Emma Schwager ,Craig Bielski, George Weingart
Snapshot Date: 2021-02-21 14:52:07 -0500 (Sun, 21 Feb 2021)
URL: https://git.bioconductor.org/packages/ccrepe
Branch: RELEASE_3_12
Last Commit: 718ab4b
Last Changed Date: 2020-10-27 10:54:07 -0500 (Tue, 27 Oct 2020)
malbec1Linux (Ubuntu 18.04.5 LTS) / x86_64  OK    OK    OK  UNNEEDED, same version exists in internal repository
nebbiolo1Linux (Ubuntu 20.04.2 LTS) / x86_64  OK    OK    OK  
tokay1Windows Server 2012 R2 Standard / x64  OK    OK    OK    OK  UNNEEDED, same version exists in internal repository
merida1macOS 10.14.6 Mojave / x86_64  OK    OK    OK    OK  UNNEEDED, same version exists in internal repository

Summary

Package: ccrepe
Version: 1.26.0
Command: rm -rf ccrepe.buildbin-libdir && mkdir ccrepe.buildbin-libdir && C:\Users\biocbuild\bbs-3.12-bioc\R\bin\R.exe CMD INSTALL --merge-multiarch --build --library=ccrepe.buildbin-libdir ccrepe_1.26.0.tar.gz
StartedAt: 2021-02-22 08:46:29 -0500 (Mon, 22 Feb 2021)
EndedAt: 2021-02-22 08:47:05 -0500 (Mon, 22 Feb 2021)
EllapsedTime: 35.9 seconds
RetCode: 0
Status:   OK   
PackageFile: ccrepe_1.26.0.zip
PackageFileSize: 361.9 KiB

Command output

##############################################################################
##############################################################################
###
### Running command:
###
###   rm -rf ccrepe.buildbin-libdir && mkdir ccrepe.buildbin-libdir && C:\Users\biocbuild\bbs-3.12-bioc\R\bin\R.exe CMD INSTALL --merge-multiarch --build --library=ccrepe.buildbin-libdir ccrepe_1.26.0.tar.gz
###
##############################################################################
##############################################################################



install for i386

* installing *source* package 'ccrepe' ...
** using staged installation
** R
** inst
** byte-compile and prepare package for lazy loading
** help
*** installing help indices
  converting help for package 'ccrepe'
    finding HTML links ... done
    ccrepe-package                          html  
    ccrepe                                  html  
    ccrepeSampleTestFunction                html  
    nc.score                                html  
** building package indices
** installing vignettes
** testing if installed package can be loaded from temporary location
** testing if installed package can be loaded from final location
** testing if installed package keeps a record of temporary installation path

install for x64

* installing *source* package 'ccrepe' ...
** testing if installed package can be loaded
* MD5 sums
packaged installation of 'ccrepe' as ccrepe_1.26.0.zip
* DONE (ccrepe)