Back to Multiple platform build/check report for BioC 3.12
[A]BCDEFGHIJKLMNOPQRSTUVWXYZ

BUILD report for a4Preproc on malbec1

This page was generated on 2020-09-20 10:10:50 -0400 (Sun, 20 Sep 2020).

TO THE DEVELOPERS/MAINTAINERS OF THE a4Preproc PACKAGE: Please make sure to use the following settings in order to reproduce any error or warning you see on this page.
Package 5/1912HostnameOS / ArchINSTALLBUILDCHECKBUILD BIN
a4Preproc 1.37.0
Tobias Verbeke
Snapshot Date: 2020-09-19 14:40:23 -0400 (Sat, 19 Sep 2020)
URL: https://git.bioconductor.org/packages/a4Preproc
Branch: master
Last Commit: 950b2a6
Last Changed Date: 2020-04-27 14:25:20 -0400 (Mon, 27 Apr 2020)
malbec1 Linux (Ubuntu 18.04.4 LTS) / x86_64  OK [ OK ] OK UNNEEDED, same version exists in internal repository
nebbiolo1 Linux (Ubuntu 20.04.1 LTS) / x86_64  OK  OK  OK 
tokay1 Windows Server 2012 R2 Standard / x64  OK  OK  OK  OK UNNEEDED, same version exists in internal repository
riesling1 Windows Server 2019 Standard / x64  OK  OK  OK  OK 
merida1 macOS 10.14.6 Mojave / x86_64  OK  OK  OK  OK UNNEEDED, same version exists in internal repository

Summary

Package: a4Preproc
Version: 1.37.0
Command: /home/biocbuild/bbs-3.12-bioc/R/bin/R CMD build --keep-empty-dirs --no-resave-data a4Preproc
StartedAt: 2020-09-19 18:14:30 -0400 (Sat, 19 Sep 2020)
EndedAt: 2020-09-19 18:14:31 -0400 (Sat, 19 Sep 2020)
EllapsedTime: 0.5 seconds
RetCode: 0
Status:  OK 
PackageFile: a4Preproc_1.37.0.tar.gz
PackageFileSize: 1.867 KiB

Command output

##############################################################################
##############################################################################
###
### Running command:
###
###   /home/biocbuild/bbs-3.12-bioc/R/bin/R CMD build --keep-empty-dirs --no-resave-data a4Preproc
###
##############################################################################
##############################################################################


* checking for file ‘a4Preproc/DESCRIPTION’ ... OK
* preparing ‘a4Preproc’:
* checking DESCRIPTION meta-information ... OK
* checking for LF line-endings in source and make files and shell scripts
* checking for empty or unneeded directories
* building ‘a4Preproc_1.37.0.tar.gz’