Back to Multiple platform build/check report for BioC 3.12
[A]BCDEFGHIJKLMNOPQRSTUVWXYZ

BUILD report for alsace on merida1

This page was generated on 2020-08-13 11:51:55 -0400 (Thu, 13 Aug 2020).

TO THE DEVELOPERS/MAINTAINERS OF THE alsace PACKAGE: Please make sure to use the following settings in order to reproduce any error or warning you see on this page.
Package 46/1885HostnameOS / ArchINSTALLBUILDCHECKBUILD BIN
alsace 1.25.0
Ron Wehrens
Snapshot Date: 2020-08-12 14:52:00 -0400 (Wed, 12 Aug 2020)
URL: https://git.bioconductor.org/packages/alsace
Branch: master
Last Commit: 1b7cacd
Last Changed Date: 2020-04-27 14:38:51 -0400 (Mon, 27 Apr 2020)
malbec1 Linux (Ubuntu 18.04.4 LTS) / x86_64  OK  OK  OK UNNEEDED, same version exists in internal repository
nebbiolo1 Linux (Ubuntu 20.04.1 LTS) / x86_64  OK  OK  OK 
tokay1 Windows Server 2012 R2 Standard / x64  OK  OK  OK  OK UNNEEDED, same version exists in internal repository
merida1 macOS 10.14.6 Mojave / x86_64  OK [ OK ] OK  OK UNNEEDED, same version exists in internal repository

Summary

Package: alsace
Version: 1.25.0
Command: /Library/Frameworks/R.framework/Versions/Current/Resources/bin/R CMD build --keep-empty-dirs --no-resave-data alsace
StartedAt: 2020-08-12 19:05:32 -0400 (Wed, 12 Aug 2020)
EndedAt: 2020-08-12 19:06:14 -0400 (Wed, 12 Aug 2020)
EllapsedTime: 42.5 seconds
RetCode: 0
Status:  OK 
PackageFile: alsace_1.25.0.tar.gz
PackageFileSize: 1.382 MiB

Command output

##############################################################################
##############################################################################
###
### Running command:
###
###   /Library/Frameworks/R.framework/Versions/Current/Resources/bin/R CMD build --keep-empty-dirs --no-resave-data alsace
###
##############################################################################
##############################################################################


* checking for file ‘alsace/DESCRIPTION’ ... OK
* preparing ‘alsace’:
* checking DESCRIPTION meta-information ... OK
* installing the package to build vignettes
* creating vignettes ... OK
* checking for LF line-endings in source and make files and shell scripts
* checking for empty or unneeded directories
* looking to see if a ‘data/datalist’ file should be added
* building ‘alsace_1.25.0.tar.gz’