Back to Multiple platform build/check report for BioC 3.12
AB[C]DEFGHIJKLMNOPQRSTUVWXYZ

BUILD report for ChIPpeakAnno on tokay1

This page was generated on 2020-08-06 11:51:58 -0400 (Thu, 06 Aug 2020).

TO THE DEVELOPERS/MAINTAINERS OF THE ChIPpeakAnno PACKAGE: Please make sure to use the following settings in order to reproduce any error or warning you see on this page.
Package 274/1882HostnameOS / ArchINSTALLBUILDCHECKBUILD BIN
ChIPpeakAnno 3.23.4
Lihua Julie Zhu
Snapshot Date: 2020-08-05 14:50:59 -0400 (Wed, 05 Aug 2020)
URL: https://git.bioconductor.org/packages/ChIPpeakAnno
Branch: master
Last Commit: 538e556
Last Changed Date: 2020-08-04 12:43:36 -0400 (Tue, 04 Aug 2020)
malbec1 Linux (Ubuntu 18.04.4 LTS) / x86_64  OK  OK  OK UNNEEDED, same version exists in internal repository
tokay1 Windows Server 2012 R2 Standard / x64  OK [ OK ] OK  OK UNNEEDED, same version exists in internal repository
merida1 macOS 10.14.6 Mojave / x86_64  OK  OK  OK  OK UNNEEDED, same version exists in internal repository

Summary

Package: ChIPpeakAnno
Version: 3.23.4
Command: chmod a+r ChIPpeakAnno -R && C:\Users\biocbuild\bbs-3.12-bioc\R\bin\R.exe CMD build --keep-empty-dirs --no-resave-data ChIPpeakAnno
StartedAt: 2020-08-05 19:26:55 -0400 (Wed, 05 Aug 2020)
EndedAt: 2020-08-05 19:33:30 -0400 (Wed, 05 Aug 2020)
EllapsedTime: 395.7 seconds
RetCode: 0
Status:  OK  
PackageFile: ChIPpeakAnno_3.23.4.tar.gz
PackageFileSize: 16.92 MiB

Command output

##############################################################################
##############################################################################
###
### Running command:
###
###   chmod a+r ChIPpeakAnno -R && C:\Users\biocbuild\bbs-3.12-bioc\R\bin\R.exe CMD build --keep-empty-dirs --no-resave-data ChIPpeakAnno
###
##############################################################################
##############################################################################


* checking for file 'ChIPpeakAnno/DESCRIPTION' ... OK
* preparing 'ChIPpeakAnno':
* checking DESCRIPTION meta-information ... OK
* installing the package to build vignettes
* creating vignettes ... OK
* checking for LF line-endings in source and make files and shell scripts
* checking for empty or unneeded directories
* building 'ChIPpeakAnno_3.23.4.tar.gz'