Back to Multiple platform build/check report for BioC 3.12
A[B]CDEFGHIJKLMNOPQRSTUVWXYZ

BUILD report for BASiCS on tokay1

This page was generated on 2020-10-24 11:01:08 -0400 (Sat, 24 Oct 2020).

TO THE DEVELOPERS/MAINTAINERS OF THE BASiCS PACKAGE: Please make sure to use the following settings in order to reproduce any error or warning you see on this page.
Package 119/1974HostnameOS / ArchINSTALLBUILDCHECKBUILD BIN
BASiCS 2.1.16
Catalina Vallejos
Snapshot Date: 2020-10-23 14:40:36 -0400 (Fri, 23 Oct 2020)
URL: https://git.bioconductor.org/packages/BASiCS
Branch: master
Last Commit: effdd00
Last Changed Date: 2020-10-22 09:34:41 -0400 (Thu, 22 Oct 2020)
malbec1 Linux (Ubuntu 18.04.4 LTS) / x86_64  OK  OK  OK UNNEEDED, same version exists in internal repository
nebbiolo1 Linux (Ubuntu 20.04.1 LTS) / x86_64  OK  OK  OK 
tokay1 Windows Server 2012 R2 Standard / x64  OK [ OK ] OK  OK UNNEEDED, same version exists in internal repository
riesling1 Windows Server 2019 Standard / x64  OK  OK  OK  OK 
merida1 macOS 10.14.6 Mojave / x86_64  OK  OK  OK  OK UNNEEDED, same version exists in internal repository

Summary

Package: BASiCS
Version: 2.1.16
Command: chmod a+r BASiCS -R && C:\Users\biocbuild\bbs-3.12-bioc\R\bin\R.exe CMD build --keep-empty-dirs --no-resave-data BASiCS
StartedAt: 2020-10-23 19:39:07 -0400 (Fri, 23 Oct 2020)
EndedAt: 2020-10-23 19:41:27 -0400 (Fri, 23 Oct 2020)
EllapsedTime: 139.4 seconds
RetCode: 0
Status:  OK  
PackageFile: BASiCS_2.1.16.tar.gz
PackageFileSize: 2.932 MiB

Command output

##############################################################################
##############################################################################
###
### Running command:
###
###   chmod a+r BASiCS -R && C:\Users\biocbuild\bbs-3.12-bioc\R\bin\R.exe CMD build --keep-empty-dirs --no-resave-data BASiCS
###
##############################################################################
##############################################################################


* checking for file 'BASiCS/DESCRIPTION' ... OK
* preparing 'BASiCS':
* checking DESCRIPTION meta-information ... OK
* cleaning src
* installing the package to build vignettes
* creating vignettes ... OK
* cleaning src
* checking for LF line-endings in source and make files and shell scripts
* checking for empty or unneeded directories
* building 'BASiCS_2.1.16.tar.gz'