Back to Multiple platform build/check report for BioC 3.12 |
|
This page was generated on 2021-01-13 11:56:35 -0500 (Wed, 13 Jan 2021).
TO THE DEVELOPERS/MAINTAINERS OF THE BioNet PACKAGE: Please make sure to use the following settings in order to reproduce any error or warning you see on this page. |
Package 182/1974 | Hostname | OS / Arch | INSTALL | BUILD | CHECK | BUILD BIN | ||||||
BioNet 1.50.0 Marcus Dittrich
| malbec1 | Linux (Ubuntu 18.04.5 LTS) / x86_64 | OK | OK | OK | ![]() | ||||||
nebbiolo1 | Linux (Ubuntu 20.04.1 LTS) / x86_64 | OK | OK | OK | ||||||||
tokay1 | Windows Server 2012 R2 Standard / x64 | OK | [ OK ] | OK | OK | ![]() | ||||||
merida1 | macOS 10.14.6 Mojave / x86_64 | OK | OK | OK | OK | ![]() |
Package: BioNet |
Version: 1.50.0 |
Command: chmod a+r BioNet -R && C:\Users\biocbuild\bbs-3.12-bioc\R\bin\R.exe CMD build --keep-empty-dirs --no-resave-data BioNet |
StartedAt: 2021-01-12 19:48:10 -0500 (Tue, 12 Jan 2021) |
EndedAt: 2021-01-12 19:49:16 -0500 (Tue, 12 Jan 2021) |
EllapsedTime: 65.7 seconds |
RetCode: 0 |
Status: OK |
PackageFile: BioNet_1.50.0.tar.gz |
PackageFileSize: 1.707 MiB |
############################################################################## ############################################################################## ### ### Running command: ### ### chmod a+r BioNet -R && C:\Users\biocbuild\bbs-3.12-bioc\R\bin\R.exe CMD build --keep-empty-dirs --no-resave-data BioNet ### ############################################################################## ############################################################################## * checking for file 'BioNet/DESCRIPTION' ... OK * preparing 'BioNet': * checking DESCRIPTION meta-information ... OK * installing the package to build vignettes * creating vignettes ... OK * checking for LF line-endings in source and make files and shell scripts * checking for empty or unneeded directories * looking to see if a 'data/datalist' file should be added * building 'BioNet_1.50.0.tar.gz'