Back to Multiple platform build/check report for BioC 3.12
[A]BCDEFGHIJKLMNOPQRSTUVWXYZ

BUILD BIN report for ALDEx2 on merida1

This page was generated on 2020-09-19 10:25:50 -0400 (Sat, 19 Sep 2020).

TO THE DEVELOPERS/MAINTAINERS OF THE ALDEx2 PACKAGE: Please make sure to use the following settings in order to reproduce any error or warning you see on this page.
Package 40/1912HostnameOS / ArchINSTALLBUILDCHECKBUILD BIN
ALDEx2 1.21.1
Greg Gloor
Snapshot Date: 2020-09-18 14:43:25 -0400 (Fri, 18 Sep 2020)
URL: https://git.bioconductor.org/packages/ALDEx2
Branch: master
Last Commit: 93c54f9
Last Changed Date: 2020-07-07 15:59:33 -0400 (Tue, 07 Jul 2020)
malbec1 Linux (Ubuntu 18.04.4 LTS) / x86_64  OK  OK  OK UNNEEDED, same version exists in internal repository
nebbiolo1 Linux (Ubuntu 20.04.1 LTS) / x86_64  OK  OK  OK 
tokay1 Windows Server 2012 R2 Standard / x64  OK  OK  OK  OK UNNEEDED, same version exists in internal repository
riesling1 Windows Server 2019 Standard / x64  OK  OK  OK  OK 
merida1 macOS 10.14.6 Mojave / x86_64  OK  OK  OK [ OK ]UNNEEDED, same version exists in internal repository

Summary

Package: ALDEx2
Version: 1.21.1
Command: rm -rf ALDEx2.buildbin-libdir && mkdir ALDEx2.buildbin-libdir && /Users/biocbuild/BBS/utils/build-universal.sh ALDEx2_1.21.1.tar.gz /Library/Frameworks/R.framework/Versions/Current/Resources/bin/R ALDEx2.buildbin-libdir
StartedAt: 2020-09-19 08:38:01 -0400 (Sat, 19 Sep 2020)
EndedAt: 2020-09-19 08:38:46 -0400 (Sat, 19 Sep 2020)
EllapsedTime: 44.7 seconds
RetCode: 0
Status:  OK 
PackageFile: ALDEx2_1.21.1.tgz
PackageFileSize: 1.015 MiB

Command output

##############################################################################
##############################################################################
###
### Running command:
###
###   rm -rf ALDEx2.buildbin-libdir && mkdir ALDEx2.buildbin-libdir && /Users/biocbuild/BBS/utils/build-universal.sh ALDEx2_1.21.1.tar.gz /Library/Frameworks/R.framework/Versions/Current/Resources/bin/R ALDEx2.buildbin-libdir
###
##############################################################################
##############################################################################


>>>>>>> 
>>>>>>> INSTALLATION WITH 'R CMD INSTALL --preclean --no-multiarch --library=ALDEx2.buildbin-libdir ALDEx2_1.21.1.tar.gz'
>>>>>>> 

* installing *source* package ‘ALDEx2’ ...
** using staged installation
** R
** data
** inst
** byte-compile and prepare package for lazy loading
** help
*** installing help indices
** building package indices
** installing vignettes
** testing if installed package can be loaded from temporary location
** testing if installed package can be loaded from final location
** testing if installed package keeps a record of temporary installation path
* DONE (ALDEx2)