Back to Multiple platform build/check report for BioC 3.12
A[B]CDEFGHIJKLMNOPQRSTUVWXYZ

BUILD report for brainflowprobes on malbec1

This page was generated on 2020-08-06 11:46:49 -0400 (Thu, 06 Aug 2020).

TO THE DEVELOPERS/MAINTAINERS OF THE brainflowprobes PACKAGE: Please make sure to use the following settings in order to reproduce any error or warning you see on this page.
Package 192/1882HostnameOS / ArchINSTALLBUILDCHECKBUILD BIN
brainflowprobes 1.3.1
Amanda Price
Snapshot Date: 2020-08-05 14:50:59 -0400 (Wed, 05 Aug 2020)
URL: https://git.bioconductor.org/packages/brainflowprobes
Branch: master
Last Commit: 8556164
Last Changed Date: 2020-05-27 01:09:22 -0400 (Wed, 27 May 2020)
malbec1 Linux (Ubuntu 18.04.4 LTS) / x86_64  OK [ OK ] OK UNNEEDED, same version exists in internal repository
tokay1 Windows Server 2012 R2 Standard / x64  OK  OK  OK  OK UNNEEDED, same version exists in internal repository
merida1 macOS 10.14.6 Mojave / x86_64  OK  OK  OK  OK UNNEEDED, same version exists in internal repository

Summary

Package: brainflowprobes
Version: 1.3.1
Command: /home/biocbuild/bbs-3.12-bioc/R/bin/R CMD build --keep-empty-dirs --no-resave-data brainflowprobes
StartedAt: 2020-08-05 21:45:16 -0400 (Wed, 05 Aug 2020)
EndedAt: 2020-08-05 21:48:14 -0400 (Wed, 05 Aug 2020)
EllapsedTime: 177.8 seconds
RetCode: 0
Status:  OK 
PackageFile: brainflowprobes_1.3.1.tar.gz
PackageFileSize: 2.235 MiB

Command output

##############################################################################
##############################################################################
###
### Running command:
###
###   /home/biocbuild/bbs-3.12-bioc/R/bin/R CMD build --keep-empty-dirs --no-resave-data brainflowprobes
###
##############################################################################
##############################################################################


* checking for file ‘brainflowprobes/DESCRIPTION’ ... OK
* preparing ‘brainflowprobes’:
* checking DESCRIPTION meta-information ... OK
* installing the package to build vignettes
* creating vignettes ... OK
* checking for LF line-endings in source and make files and shell scripts
* checking for empty or unneeded directories
* building ‘brainflowprobes_1.3.1.tar.gz’