Back to Multiple platform build/check report for BioC 3.12
ABCDEF[G]HIJKLMNOPQRSTUVWXYZ

BUILD report for geneClassifiers on merida1

This page was generated on 2021-01-19 11:57:26 -0500 (Tue, 19 Jan 2021).

TO THE DEVELOPERS/MAINTAINERS OF THE geneClassifiers PACKAGE: Please make sure to use the following settings in order to reproduce any error or warning you see on this page.
Package 685/1974HostnameOS / ArchINSTALLBUILDCHECKBUILD BIN
geneClassifiers 1.14.0
R Kuiper
Snapshot Date: 2021-01-18 14:42:24 -0500 (Mon, 18 Jan 2021)
URL: https://git.bioconductor.org/packages/geneClassifiers
Branch: RELEASE_3_12
Last Commit: 1267ca3
Last Changed Date: 2020-10-27 11:21:25 -0500 (Tue, 27 Oct 2020)
malbec1 Linux (Ubuntu 18.04.5 LTS) / x86_64  OK  OK  OK UNNEEDED, same version exists in internal repository
nebbiolo1 Linux (Ubuntu 20.04.1 LTS) / x86_64  OK  OK  OK 
tokay1 Windows Server 2012 R2 Standard / x64  OK  OK  OK  OK UNNEEDED, same version exists in internal repository
merida1 macOS 10.14.6 Mojave / x86_64  OK [ OK ] OK  OK UNNEEDED, same version exists in internal repository

Summary

Package: geneClassifiers
Version: 1.14.0
Command: /Library/Frameworks/R.framework/Versions/Current/Resources/bin/R CMD build --keep-empty-dirs --no-resave-data geneClassifiers
StartedAt: 2021-01-18 19:42:26 -0500 (Mon, 18 Jan 2021)
EndedAt: 2021-01-18 19:42:45 -0500 (Mon, 18 Jan 2021)
EllapsedTime: 18.4 seconds
RetCode: 0
Status:  OK 
PackageFile: geneClassifiers_1.14.0.tar.gz
PackageFileSize: 1.764 MiB

Command output

##############################################################################
##############################################################################
###
### Running command:
###
###   /Library/Frameworks/R.framework/Versions/Current/Resources/bin/R CMD build --keep-empty-dirs --no-resave-data geneClassifiers
###
##############################################################################
##############################################################################


* checking for file ‘geneClassifiers/DESCRIPTION’ ... OK
* preparing ‘geneClassifiers’:
* checking DESCRIPTION meta-information ... OK
* installing the package to build vignettes
* creating vignettes ... OK
* checking for LF line-endings in source and make files and shell scripts
* checking for empty or unneeded directories
* building ‘geneClassifiers_1.14.0.tar.gz’