Back to Multiple platform build/check report for BioC 3.12
ABCDEFG[H]IJKLMNOPQRSTUVWXYZ

Multiple platform build/check report for BioC 3.12

Results for HIREewas

This page was generated on 2020-10-27 11:49:34 -0400 (Tue, 27 Oct 2020).

Package 841/1974HostnameOS / ArchINSTALLBUILDCHECKBUILD BIN
HIREewas 1.7.0
Xiangyu Luo
Snapshot Date: 2020-10-26 14:42:55 -0400 (Mon, 26 Oct 2020)
URL: https://git.bioconductor.org/packages/HIREewas
Branch: master
Last Commit: c18a5b4
Last Changed Date: 2020-04-27 15:20:28 -0400 (Mon, 27 Apr 2020)
malbec1 Linux (Ubuntu 18.04.4 LTS) / x86_64  OK  OK  OK UNNEEDED, same version exists in internal repository
nebbiolo1 Linux (Ubuntu 20.04.1 LTS) / x86_64  OK  OK  OK 
tokay1 Windows Server 2012 R2 Standard / x64  OK  OK  OK  OK UNNEEDED, same version exists in internal repository
riesling1 Windows Server 2019 Standard / x64  OK  OK  OK  OK 
merida1 macOS 10.14.6 Mojave / x86_64  OK  OK  OK  OK UNNEEDED, same version exists in internal repository