Back to Multiple platform build/check report for BioC 3.12
A[B]CDEFGHIJKLMNOPQRSTUVWXYZ

BUILD report for BadRegionFinder on merida1

This page was generated on 2021-04-12 12:32:46 -0400 (Mon, 12 Apr 2021).

To the developers/maintainers of the BadRegionFinder package:
Please make sure to use the following settings in order to reproduce any error or warning you see on this page.
Package 109/1974HostnameOS / ArchINSTALLBUILDCHECKBUILD BIN
BadRegionFinder 1.18.0  (landing page)
Sarah Sandmann
Snapshot Date: 2021-04-11 14:51:36 -0400 (Sun, 11 Apr 2021)
URL: https://git.bioconductor.org/packages/BadRegionFinder
Branch: RELEASE_3_12
Last Commit: 54deba4
Last Changed Date: 2020-10-27 11:13:27 -0400 (Tue, 27 Oct 2020)
malbec1Linux (Ubuntu 18.04.5 LTS) / x86_64  OK    OK    OK  UNNEEDED, same version exists in internal repository
tokay1Windows Server 2012 R2 Standard / x64  OK    OK    OK    OK  UNNEEDED, same version exists in internal repository
merida1macOS 10.14.6 Mojave / x86_64  OK    OK    OK    OK  UNNEEDED, same version exists in internal repository

Summary

Package: BadRegionFinder
Version: 1.18.0
Command: /Library/Frameworks/R.framework/Versions/Current/Resources/bin/R CMD build --keep-empty-dirs --no-resave-data BadRegionFinder
StartedAt: 2021-04-11 18:14:09 -0400 (Sun, 11 Apr 2021)
EndedAt: 2021-04-11 18:16:01 -0400 (Sun, 11 Apr 2021)
EllapsedTime: 112.2 seconds
RetCode: 0
Status:   OK  
PackageFile: BadRegionFinder_1.18.0.tar.gz
PackageFileSize: 770.9 KiB

Command output

##############################################################################
##############################################################################
###
### Running command:
###
###   /Library/Frameworks/R.framework/Versions/Current/Resources/bin/R CMD build --keep-empty-dirs --no-resave-data BadRegionFinder
###
##############################################################################
##############################################################################


* checking for file ‘BadRegionFinder/DESCRIPTION’ ... OK
* preparing ‘BadRegionFinder’:
* checking DESCRIPTION meta-information ... OK
* installing the package to process help pages
* saving partial Rd database
* creating vignettes ... OK
* checking for LF line-endings in source and make files and shell scripts
* checking for empty or unneeded directories
* building ‘BadRegionFinder_1.18.0.tar.gz’