Back to Multiple platform build/check report for BioC 3.12
[A]BCDEFGHIJKLMNOPQRSTUVWXYZ

BUILD report for ASICS on malbec1

This page was generated on 2020-08-07 11:36:13 -0400 (Fri, 07 Aug 2020).

TO THE DEVELOPERS/MAINTAINERS OF THE ASICS PACKAGE: Please make sure to use the following settings in order to reproduce any error or warning you see on this page.
Package 87/1882HostnameOS / ArchINSTALLBUILDCHECKBUILD BIN
ASICS 2.5.3
Gaëlle Lefort
Snapshot Date: 2020-08-06 14:50:46 -0400 (Thu, 06 Aug 2020)
URL: https://git.bioconductor.org/packages/ASICS
Branch: master
Last Commit: 6bc5327
Last Changed Date: 2020-07-20 02:38:28 -0400 (Mon, 20 Jul 2020)
malbec1 Linux (Ubuntu 18.04.4 LTS) / x86_64  OK [ OK ] WARNINGS UNNEEDED, same version exists in internal repository
tokay1 Windows Server 2012 R2 Standard / x64  OK  OK  WARNINGS  OK UNNEEDED, same version exists in internal repository
merida1 macOS 10.14.6 Mojave / x86_64  OK  OK  WARNINGS  OK UNNEEDED, same version exists in internal repository

Summary

Package: ASICS
Version: 2.5.3
Command: /home/biocbuild/bbs-3.12-bioc/R/bin/R CMD build --keep-empty-dirs --no-resave-data ASICS
StartedAt: 2020-08-06 20:52:50 -0400 (Thu, 06 Aug 2020)
EndedAt: 2020-08-06 20:55:18 -0400 (Thu, 06 Aug 2020)
EllapsedTime: 147.6 seconds
RetCode: 0
Status:  OK 
PackageFile: ASICS_2.5.3.tar.gz
PackageFileSize: 3.529 MiB

Command output

##############################################################################
##############################################################################
###
### Running command:
###
###   /home/biocbuild/bbs-3.12-bioc/R/bin/R CMD build --keep-empty-dirs --no-resave-data ASICS
###
##############################################################################
##############################################################################


* checking for file ‘ASICS/DESCRIPTION’ ... OK
* preparing ‘ASICS’:
* checking DESCRIPTION meta-information ... OK
* installing the package to build vignettes
* creating vignettes ... OK
* checking for LF line-endings in source and make files and shell scripts
* checking for empty or unneeded directories
* building ‘ASICS_2.5.3.tar.gz’