Back to Multiple platform build/check report for BioC 3.12
A[B]CDEFGHIJKLMNOPQRSTUVWXYZ

INSTALL report for BadRegionFinder on malbec1

This page was generated on 2021-02-22 12:28:37 -0500 (Mon, 22 Feb 2021).

To the developers/maintainers of the BadRegionFinder package:
Please make sure to use the following settings in order to reproduce any error or warning you see on this page.
Package 109/1974HostnameOS / ArchINSTALLBUILDCHECKBUILD BIN
BadRegionFinder 1.18.0
Sarah Sandmann
Snapshot Date: 2021-02-21 14:52:07 -0500 (Sun, 21 Feb 2021)
URL: https://git.bioconductor.org/packages/BadRegionFinder
Branch: RELEASE_3_12
Last Commit: 54deba4
Last Changed Date: 2020-10-27 11:13:27 -0500 (Tue, 27 Oct 2020)
malbec1Linux (Ubuntu 18.04.5 LTS) / x86_64  OK    OK    OK  UNNEEDED, same version exists in internal repository
nebbiolo1Linux (Ubuntu 20.04.2 LTS) / x86_64  OK    OK    OK  
tokay1Windows Server 2012 R2 Standard / x64  OK    OK    OK    OK  UNNEEDED, same version exists in internal repository
merida1macOS 10.14.6 Mojave / x86_64  OK    OK    OK    OK  UNNEEDED, same version exists in internal repository

Summary

Package: BadRegionFinder
Version: 1.18.0
Command: /home/biocbuild/bbs-3.12-bioc/R/bin/R CMD INSTALL BadRegionFinder
StartedAt: 2021-02-21 16:41:18 -0500 (Sun, 21 Feb 2021)
EndedAt: 2021-02-21 16:42:07 -0500 (Sun, 21 Feb 2021)
EllapsedTime: 48.9 seconds
RetCode: 0
Status:   OK  

Command output

##############################################################################
##############################################################################
###
### Running command:
###
###   /home/biocbuild/bbs-3.12-bioc/R/bin/R CMD INSTALL BadRegionFinder
###
##############################################################################
##############################################################################


* installing to library ‘/home/biocbuild/bbs-3.12-bioc/R/library’
* installing *source* package ‘BadRegionFinder’ ...
** using staged installation
** R
** inst
** byte-compile and prepare package for lazy loading
** help
*** installing help indices
** building package indices
** installing vignettes
** testing if installed package can be loaded from temporary location
** testing if installed package can be loaded from final location
** testing if installed package keeps a record of temporary installation path
* DONE (BadRegionFinder)