Back to Multiple platform build/check report for BioC 3.12 |
|
This page was generated on 2021-01-22 11:54:53 -0500 (Fri, 22 Jan 2021).
TO THE DEVELOPERS/MAINTAINERS OF THE BasicSTARRseq PACKAGE: Please make sure to use the following settings in order to reproduce any error or warning you see on this page. |
Package 120/1974 | Hostname | OS / Arch | INSTALL | BUILD | CHECK | BUILD BIN | ||||||
BasicSTARRseq 1.18.0 Annika Buerger
| malbec1 | Linux (Ubuntu 18.04.5 LTS) / x86_64 | OK | OK | OK | ![]() | ||||||
nebbiolo1 | Linux (Ubuntu 20.04.1 LTS) / x86_64 | OK | OK | OK | ||||||||
tokay1 | Windows Server 2012 R2 Standard / x64 | OK | [ OK ] | OK | OK | ![]() | ||||||
merida1 | macOS 10.14.6 Mojave / x86_64 | OK | OK | OK | OK | ![]() |
Package: BasicSTARRseq |
Version: 1.18.0 |
Command: chmod a+r BasicSTARRseq -R && C:\Users\biocbuild\bbs-3.12-bioc\R\bin\R.exe CMD build --keep-empty-dirs --no-resave-data BasicSTARRseq |
StartedAt: 2021-01-21 19:40:13 -0500 (Thu, 21 Jan 2021) |
EndedAt: 2021-01-21 19:40:58 -0500 (Thu, 21 Jan 2021) |
EllapsedTime: 44.9 seconds |
RetCode: 0 |
Status: OK |
PackageFile: BasicSTARRseq_1.18.0.tar.gz |
PackageFileSize: 460 KiB |
############################################################################## ############################################################################## ### ### Running command: ### ### chmod a+r BasicSTARRseq -R && C:\Users\biocbuild\bbs-3.12-bioc\R\bin\R.exe CMD build --keep-empty-dirs --no-resave-data BasicSTARRseq ### ############################################################################## ############################################################################## * checking for file 'BasicSTARRseq/DESCRIPTION' ... OK * preparing 'BasicSTARRseq': * checking DESCRIPTION meta-information ... OK * installing the package to build vignettes * creating vignettes ... OK * checking for LF line-endings in source and make files and shell scripts * checking for empty or unneeded directories * building 'BasicSTARRseq_1.18.0.tar.gz'