Back to Multiple platform build/check report for BioC 3.12
[A]BCDEFGHIJKLMNOPQRSTUVWXYZ

BUILD report for a4Reporting on malbec1

This page was generated on 2021-02-22 12:28:09 -0500 (Mon, 22 Feb 2021).

To the developers/maintainers of the a4Reporting package:
Please make sure to use the following settings in order to reproduce any error or warning you see on this page.
Package 6/1974HostnameOS / ArchINSTALLBUILDCHECKBUILD BIN
a4Reporting 1.38.0
Laure Cougnaud
Snapshot Date: 2021-02-21 14:52:07 -0500 (Sun, 21 Feb 2021)
URL: https://git.bioconductor.org/packages/a4Reporting
Branch: RELEASE_3_12
Last Commit: cd3cf24
Last Changed Date: 2020-10-27 10:41:23 -0500 (Tue, 27 Oct 2020)
malbec1Linux (Ubuntu 18.04.5 LTS) / x86_64  OK    OK    OK  UNNEEDED, same version exists in internal repository
nebbiolo1Linux (Ubuntu 20.04.2 LTS) / x86_64  OK    OK    OK  
tokay1Windows Server 2012 R2 Standard / x64  OK    OK    OK    OK  UNNEEDED, same version exists in internal repository
merida1macOS 10.14.6 Mojave / x86_64  OK    OK    OK    OK  UNNEEDED, same version exists in internal repository

Summary

Package: a4Reporting
Version: 1.38.0
Command: /home/biocbuild/bbs-3.12-bioc/R/bin/R CMD build --keep-empty-dirs --no-resave-data a4Reporting
StartedAt: 2021-02-21 17:35:25 -0500 (Sun, 21 Feb 2021)
EndedAt: 2021-02-21 17:35:31 -0500 (Sun, 21 Feb 2021)
EllapsedTime: 6.8 seconds
RetCode: 0
Status:   OK  
PackageFile: a4Reporting_1.38.0.tar.gz
PackageFileSize: 280 KiB

Command output

##############################################################################
##############################################################################
###
### Running command:
###
###   /home/biocbuild/bbs-3.12-bioc/R/bin/R CMD build --keep-empty-dirs --no-resave-data a4Reporting
###
##############################################################################
##############################################################################


* checking for file ‘a4Reporting/DESCRIPTION’ ... OK
* preparing ‘a4Reporting’:
* checking DESCRIPTION meta-information ... OK
* installing the package to build vignettes
* creating vignettes ... OK
* checking for LF line-endings in source and make files and shell scripts
* checking for empty or unneeded directories
* building ‘a4Reporting_1.38.0.tar.gz’