Back to Multiple platform build/check report for BioC 3.12
A[B]CDEFGHIJKLMNOPQRSTUVWXYZ

CHECK report for BrainSABER on tokay1

This page was generated on 2020-08-11 11:50:42 -0400 (Tue, 11 Aug 2020).

TO THE DEVELOPERS/MAINTAINERS OF THE BrainSABER PACKAGE: Please make sure to use the following settings in order to reproduce any error or warning you see on this page.
Package 193/1885HostnameOS / ArchINSTALLBUILDCHECKBUILD BIN
BrainSABER 0.99.4
USD Biomedical Engineering
Snapshot Date: 2020-08-10 14:50:56 -0400 (Mon, 10 Aug 2020)
URL: https://git.bioconductor.org/packages/BrainSABER
Branch: master
Last Commit: 4d2527c
Last Changed Date: 2020-04-20 22:30:39 -0400 (Mon, 20 Apr 2020)
malbec1 Linux (Ubuntu 18.04.4 LTS) / x86_64  OK  OK  OK UNNEEDED, same version exists in internal repository
nebbiolo1 Linux (Ubuntu 20.04.1 LTS) / x86_64  OK  OK  NA 
tokay1 Windows Server 2012 R2 Standard / x64  OK  OK [ OK ] OK UNNEEDED, same version exists in internal repository
merida1 macOS 10.14.6 Mojave / x86_64  OK  OK  OK  OK UNNEEDED, same version exists in internal repository

Summary

Package: BrainSABER
Version: 0.99.4
Command: C:\Users\biocbuild\bbs-3.12-bioc\R\bin\R.exe CMD check --force-multiarch --install=check:BrainSABER.install-out.txt --library=C:\Users\biocbuild\bbs-3.12-bioc\R\library --no-vignettes --timings BrainSABER_0.99.4.tar.gz
StartedAt: 2020-08-11 06:34:17 -0400 (Tue, 11 Aug 2020)
EndedAt: 2020-08-11 06:38:34 -0400 (Tue, 11 Aug 2020)
EllapsedTime: 257.3 seconds
RetCode: 0
Status:  OK  
CheckDir: BrainSABER.Rcheck
Warnings: 0

Command output

##############################################################################
##############################################################################
###
### Running command:
###
###   C:\Users\biocbuild\bbs-3.12-bioc\R\bin\R.exe CMD check --force-multiarch --install=check:BrainSABER.install-out.txt --library=C:\Users\biocbuild\bbs-3.12-bioc\R\library --no-vignettes --timings BrainSABER_0.99.4.tar.gz
###
##############################################################################
##############################################################################


* using log directory 'C:/Users/biocbuild/bbs-3.12-bioc/meat/BrainSABER.Rcheck'
* using R version 4.0.2 (2020-06-22)
* using platform: x86_64-w64-mingw32 (64-bit)
* using session charset: ISO8859-1
* using option '--no-vignettes'
* checking for file 'BrainSABER/DESCRIPTION' ... OK
* checking extension type ... Package
* this is package 'BrainSABER' version '0.99.4'
* package encoding: UTF-8
* checking package namespace information ... OK
* checking package dependencies ... OK
* checking if this is a source package ... OK
* checking if there is a namespace ... OK
* checking for hidden files and directories ... OK
* checking for portable file names ... OK
* checking whether package 'BrainSABER' can be installed ... OK
* checking installed package size ... OK
* checking package directory ... OK
* checking 'build' directory ... OK
* checking DESCRIPTION meta-information ... OK
* checking top-level files ... OK
* checking for left-over files ... OK
* checking index information ... OK
* checking package subdirectories ... OK
* checking R files for non-ASCII characters ... OK
* checking R files for syntax errors ... OK
* loading checks for arch 'i386'
** checking whether the package can be loaded ... OK
** checking whether the package can be loaded with stated dependencies ... OK
** checking whether the package can be unloaded cleanly ... OK
** checking whether the namespace can be loaded with stated dependencies ... OK
** checking whether the namespace can be unloaded cleanly ... OK
* loading checks for arch 'x64'
** checking whether the package can be loaded ... OK
** checking whether the package can be loaded with stated dependencies ... OK
** checking whether the package can be unloaded cleanly ... OK
** checking whether the namespace can be loaded with stated dependencies ... OK
** checking whether the namespace can be unloaded cleanly ... OK
* checking dependencies in R code ... OK
* checking S3 generic/method consistency ... OK
* checking replacement functions ... OK
* checking foreign function calls ... OK
* checking R code for possible problems ... OK
* checking Rd files ... OK
* checking Rd metadata ... OK
* checking Rd cross-references ... OK
* checking for missing documentation entries ... OK
* checking for code/documentation mismatches ... OK
* checking Rd \usage sections ... OK
* checking Rd contents ... OK
* checking for unstated dependencies in examples ... OK
* checking files in 'vignettes' ... OK
* checking examples ...
** running examples for arch 'i386' ... OK
** running examples for arch 'x64' ... OK
* checking for unstated dependencies in vignettes ... OK
* checking package vignettes in 'inst/doc' ... OK
* checking running R code from vignettes ... SKIPPED
* checking re-building of vignette outputs ... SKIPPED
* checking PDF version of manual ... OK
* DONE

Status: OK


Installation output

BrainSABER.Rcheck/00install.out

##############################################################################
##############################################################################
###
### Running command:
###
###   C:\cygwin\bin\curl.exe -O https://malbec1.bioconductor.org/BBS/3.12/bioc/src/contrib/BrainSABER_0.99.4.tar.gz && rm -rf BrainSABER.buildbin-libdir && mkdir BrainSABER.buildbin-libdir && C:\Users\biocbuild\bbs-3.12-bioc\R\bin\R.exe CMD INSTALL --merge-multiarch --build --library=BrainSABER.buildbin-libdir BrainSABER_0.99.4.tar.gz && C:\Users\biocbuild\bbs-3.12-bioc\R\bin\R.exe CMD INSTALL BrainSABER_0.99.4.zip && rm BrainSABER_0.99.4.tar.gz BrainSABER_0.99.4.zip
###
##############################################################################
##############################################################################


  % Total    % Received % Xferd  Average Speed   Time    Time     Time  Current
                                 Dload  Upload   Total   Spent    Left  Speed

  0     0    0     0    0     0      0      0 --:--:-- --:--:-- --:--:--     0
100 19302  100 19302    0     0   296k      0 --:--:-- --:--:-- --:--:--  314k

install for i386

* installing *source* package 'BrainSABER' ...
** using staged installation
** R
** inst
** byte-compile and prepare package for lazy loading
** help
*** installing help indices
  converting help for package 'BrainSABER'
    finding HTML links ... done
    CellScabbard-methods                    html  
    CellScabbard                            html  
    buildAIBSARNA                           html  
    getExampleVector                        html  
    getExternalVector                       html  
    getRelevantGenes                        html  
    getSimDataFrame                         html  
    getSimMatrix                            html  
    getSimScores                            html  
    getTrimmedExternalSet                   html  
    getUNDmatrix                            html  
** building package indices
** installing vignettes
** testing if installed package can be loaded from temporary location
** testing if installed package can be loaded from final location
** testing if installed package keeps a record of temporary installation path

install for x64

* installing *source* package 'BrainSABER' ...
** testing if installed package can be loaded
* MD5 sums
packaged installation of 'BrainSABER' as BrainSABER_0.99.4.zip
* DONE (BrainSABER)
* installing to library 'C:/Users/biocbuild/bbs-3.12-bioc/R/library'
package 'BrainSABER' successfully unpacked and MD5 sums checked

Tests output


Example timings

BrainSABER.Rcheck/examples_i386/BrainSABER-Ex.timings

nameusersystemelapsed
CellScabbard-methods0.260.040.29
CellScabbard0.190.030.22
buildAIBSARNA0.020.000.02
getExampleVector0.040.000.05
getExternalVector0.040.000.03
getRelevantGenes0.180.000.18
getSimDataFrame0.270.000.27
getSimMatrix0.220.010.23
getSimScores0.220.000.22
getTrimmedExternalSet0.30.00.3
getUNDmatrix0.410.000.40

BrainSABER.Rcheck/examples_x64/BrainSABER-Ex.timings

nameusersystemelapsed
CellScabbard-methods0.300.060.36
CellScabbard0.300.000.29
buildAIBSARNA0.010.000.02
getExampleVector0.050.000.04
getExternalVector0.040.000.05
getRelevantGenes0.290.000.28
getSimDataFrame0.280.000.28
getSimMatrix0.280.000.28
getSimScores0.250.000.25
getTrimmedExternalSet0.250.000.25
getUNDmatrix0.310.000.31