Back to Multiple platform build/check report for BioC 3.12
[A]BCDEFGHIJKLMNOPQRSTUVWXYZ

INSTALL report for Anaquin on tokay1

This page was generated on 2020-08-11 11:44:10 -0400 (Tue, 11 Aug 2020).

TO THE DEVELOPERS/MAINTAINERS OF THE Anaquin PACKAGE: Please make sure to use the following settings in order to reproduce any error or warning you see on this page.
Package 51/1885HostnameOS / ArchINSTALLBUILDCHECKBUILD BIN
Anaquin 2.13.0
Ted Wong
Snapshot Date: 2020-08-10 14:50:56 -0400 (Mon, 10 Aug 2020)
URL: https://git.bioconductor.org/packages/Anaquin
Branch: master
Last Commit: aa8e5bd
Last Changed Date: 2020-04-27 15:01:01 -0400 (Mon, 27 Apr 2020)
malbec1 Linux (Ubuntu 18.04.4 LTS) / x86_64  OK  OK  OK UNNEEDED, same version exists in internal repository
nebbiolo1 Linux (Ubuntu 20.04.1 LTS) / x86_64  OK  OK  NA 
tokay1 Windows Server 2012 R2 Standard / x64 [ OK ] OK  OK  OK UNNEEDED, same version exists in internal repository
merida1 macOS 10.14.6 Mojave / x86_64  OK  OK  OK  OK UNNEEDED, same version exists in internal repository

Summary

Package: Anaquin
Version: 2.13.0
Command: C:\cygwin\bin\curl.exe -O https://malbec1.bioconductor.org/BBS/3.12/bioc/src/contrib/Anaquin_2.13.0.tar.gz && rm -rf Anaquin.buildbin-libdir && mkdir Anaquin.buildbin-libdir && C:\Users\biocbuild\bbs-3.12-bioc\R\bin\R.exe CMD INSTALL --merge-multiarch --build --library=Anaquin.buildbin-libdir Anaquin_2.13.0.tar.gz && C:\Users\biocbuild\bbs-3.12-bioc\R\bin\R.exe CMD INSTALL Anaquin_2.13.0.zip && rm Anaquin_2.13.0.tar.gz Anaquin_2.13.0.zip
StartedAt: 2020-08-10 18:06:48 -0400 (Mon, 10 Aug 2020)
EndedAt: 2020-08-10 18:07:21 -0400 (Mon, 10 Aug 2020)
EllapsedTime: 32.7 seconds
RetCode: 0
Status:  OK  

Command output

##############################################################################
##############################################################################
###
### Running command:
###
###   C:\cygwin\bin\curl.exe -O https://malbec1.bioconductor.org/BBS/3.12/bioc/src/contrib/Anaquin_2.13.0.tar.gz && rm -rf Anaquin.buildbin-libdir && mkdir Anaquin.buildbin-libdir && C:\Users\biocbuild\bbs-3.12-bioc\R\bin\R.exe CMD INSTALL --merge-multiarch --build --library=Anaquin.buildbin-libdir Anaquin_2.13.0.tar.gz && C:\Users\biocbuild\bbs-3.12-bioc\R\bin\R.exe CMD INSTALL Anaquin_2.13.0.zip && rm Anaquin_2.13.0.tar.gz Anaquin_2.13.0.zip
###
##############################################################################
##############################################################################


  % Total    % Received % Xferd  Average Speed   Time    Time     Time  Current
                                 Dload  Upload   Total   Spent    Left  Speed

  0     0    0     0    0     0      0      0 --:--:-- --:--:-- --:--:--     0
100 89826  100 89826    0     0   488k      0 --:--:-- --:--:-- --:--:--  501k

install for i386

* installing *source* package 'Anaquin' ...
** using staged installation
** R
** data
*** moving datasets to lazyload DB
** inst
** byte-compile and prepare package for lazy loading
** help
*** installing help indices
  converting help for package 'Anaquin'
    finding HTML links ... done
    RnaQuinGeneMixture                      html  
    RnaQuinIsoformMixture                   html  
    UserGuideData_5.4.5.1                   html  
    UserGuideData_5.4.6.3                   html  
    UserGuideData_5.6.3                     html  
    plotConjoint                            html  
    plotLOD                                 html  
    plotLinear                              html  
    plotLogistic                            html  
    plotROC                                 html  
** building package indices
** installing vignettes
** testing if installed package can be loaded from temporary location
** testing if installed package can be loaded from final location
** testing if installed package keeps a record of temporary installation path

install for x64

* installing *source* package 'Anaquin' ...
** testing if installed package can be loaded
* MD5 sums
packaged installation of 'Anaquin' as Anaquin_2.13.0.zip
* DONE (Anaquin)
* installing to library 'C:/Users/biocbuild/bbs-3.12-bioc/R/library'
package 'Anaquin' successfully unpacked and MD5 sums checked