Back to Multiple platform build/check report for BioC 3.12
A[B]CDEFGHIJKLMNOPQRSTUVWXYZ

BUILD BIN report for BiocPkgTools on tokay1

This page was generated on 2020-08-13 11:44:24 -0400 (Thu, 13 Aug 2020).

TO THE DEVELOPERS/MAINTAINERS OF THE BiocPkgTools PACKAGE: Please make sure to use the following settings in order to reproduce any error or warning you see on this page.
Package 158/1885HostnameOS / ArchINSTALLBUILDCHECKBUILD BIN
BiocPkgTools 1.7.0
Sean Davis
Snapshot Date: 2020-08-12 14:52:00 -0400 (Wed, 12 Aug 2020)
URL: https://git.bioconductor.org/packages/BiocPkgTools
Branch: master
Last Commit: 153abf3
Last Changed Date: 2020-04-27 15:19:21 -0400 (Mon, 27 Apr 2020)
malbec1 Linux (Ubuntu 18.04.4 LTS) / x86_64  OK  OK  OK UNNEEDED, same version exists in internal repository
nebbiolo1 Linux (Ubuntu 20.04.1 LTS) / x86_64  OK  OK  OK 
tokay1 Windows Server 2012 R2 Standard / x64  OK  OK  OK [ OK ]UNNEEDED, same version exists in internal repository
merida1 macOS 10.14.6 Mojave / x86_64  OK  OK  OK  OK UNNEEDED, same version exists in internal repository

Summary

Package: BiocPkgTools
Version: 1.7.0
Command: rm -rf BiocPkgTools.buildbin-libdir && mkdir BiocPkgTools.buildbin-libdir && C:\Users\biocbuild\bbs-3.12-bioc\R\bin\R.exe CMD INSTALL --merge-multiarch --build --library=BiocPkgTools.buildbin-libdir BiocPkgTools_1.7.0.tar.gz
StartedAt: 2020-08-13 08:49:56 -0400 (Thu, 13 Aug 2020)
EndedAt: 2020-08-13 08:51:10 -0400 (Thu, 13 Aug 2020)
EllapsedTime: 74.7 seconds
RetCode: 0
Status:  OK  
PackageFile: BiocPkgTools_1.7.0.zip
PackageFileSize: 1.446 MiB

Command output

##############################################################################
##############################################################################
###
### Running command:
###
###   rm -rf BiocPkgTools.buildbin-libdir && mkdir BiocPkgTools.buildbin-libdir && C:\Users\biocbuild\bbs-3.12-bioc\R\bin\R.exe CMD INSTALL --merge-multiarch --build --library=BiocPkgTools.buildbin-libdir BiocPkgTools_1.7.0.tar.gz
###
##############################################################################
##############################################################################



install for i386

* installing *source* package 'BiocPkgTools' ...
** using staged installation
** R
** inst
** byte-compile and prepare package for lazy loading
** help
*** installing help indices
  converting help for package 'BiocPkgTools'
    finding HTML links ... done
    BiocPkgTools-cache                      html  
    BiocPkgTools                            html  
    CRANstatus                              html  
    biocBuildEmail                          html  
    biocBuildReport                         html  
    biocDownloadStats                       html  
    biocExplore                             html  
    biocPkgList                             html  
    buildPkgDependencyDataFrame             html  
    buildPkgDependencyIgraph                html  
    dataciteXMLGenerate                     html  
    dot-getDepGain                          html  
    firstInBioc                             html  
    generateBiocPkgDOI                      html  
    getBiocVignette                         html  
    getPackageInfo                          html  
    get_bioc_data                           html  
    githubDetails                           html  
    githubURLParts                          html  
    inducedSubgraphByPkgs                   html  
    pkgCombDependencyGain                   html  
    pkgDepImports                           html  
    pkgDepMetrics                           html  
    problemPage                             html  
    subgraphByDegree                        html  
** building package indices
** installing vignettes
** testing if installed package can be loaded from temporary location
** testing if installed package can be loaded from final location
** testing if installed package keeps a record of temporary installation path

install for x64

* installing *source* package 'BiocPkgTools' ...
** testing if installed package can be loaded
* MD5 sums
packaged installation of 'BiocPkgTools' as BiocPkgTools_1.7.0.zip
* DONE (BiocPkgTools)