Back to Multiple platform build/check report for BioC 3.12
A[B]CDEFGHIJKLMNOPQRSTUVWXYZ

INSTALL report for biocViews on tokay1

This page was generated on 2020-08-06 11:49:45 -0400 (Thu, 06 Aug 2020).

TO THE DEVELOPERS/MAINTAINERS OF THE biocViews PACKAGE: Please make sure to use the following settings in order to reproduce any error or warning you see on this page.
Package 164/1882HostnameOS / ArchINSTALLBUILDCHECKBUILD BIN
biocViews 1.57.3
Bioconductor Package Maintainer
Snapshot Date: 2020-08-05 14:50:59 -0400 (Wed, 05 Aug 2020)
URL: https://git.bioconductor.org/packages/biocViews
Branch: master
Last Commit: d1f0be2
Last Changed Date: 2020-07-17 16:45:15 -0400 (Fri, 17 Jul 2020)
malbec1 Linux (Ubuntu 18.04.4 LTS) / x86_64  OK  OK  OK UNNEEDED, same version exists in internal repository
tokay1 Windows Server 2012 R2 Standard / x64 [ OK ] OK  OK  OK UNNEEDED, same version exists in internal repository
merida1 macOS 10.14.6 Mojave / x86_64  OK  OK  OK  OK UNNEEDED, same version exists in internal repository

Summary

Package: biocViews
Version: 1.57.3
Command: C:\cygwin\bin\curl.exe -O https://malbec1.bioconductor.org/BBS/3.12/bioc/src/contrib/biocViews_1.57.3.tar.gz && rm -rf biocViews.buildbin-libdir && mkdir biocViews.buildbin-libdir && C:\Users\biocbuild\bbs-3.12-bioc\R\bin\R.exe CMD INSTALL --merge-multiarch --build --library=biocViews.buildbin-libdir biocViews_1.57.3.tar.gz && C:\Users\biocbuild\bbs-3.12-bioc\R\bin\R.exe CMD INSTALL biocViews_1.57.3.zip && rm biocViews_1.57.3.tar.gz biocViews_1.57.3.zip
StartedAt: 2020-08-05 17:48:21 -0400 (Wed, 05 Aug 2020)
EndedAt: 2020-08-05 17:49:04 -0400 (Wed, 05 Aug 2020)
EllapsedTime: 42.4 seconds
RetCode: 0
Status:  OK  

Command output

##############################################################################
##############################################################################
###
### Running command:
###
###   C:\cygwin\bin\curl.exe -O https://malbec1.bioconductor.org/BBS/3.12/bioc/src/contrib/biocViews_1.57.3.tar.gz && rm -rf biocViews.buildbin-libdir && mkdir biocViews.buildbin-libdir && C:\Users\biocbuild\bbs-3.12-bioc\R\bin\R.exe CMD INSTALL --merge-multiarch --build --library=biocViews.buildbin-libdir biocViews_1.57.3.tar.gz && C:\Users\biocbuild\bbs-3.12-bioc\R\bin\R.exe CMD INSTALL biocViews_1.57.3.zip && rm biocViews_1.57.3.tar.gz biocViews_1.57.3.zip
###
##############################################################################
##############################################################################


  % Total    % Received % Xferd  Average Speed   Time    Time     Time  Current
                                 Dload  Upload   Total   Spent    Left  Speed

  0     0    0     0    0     0      0      0 --:--:-- --:--:-- --:--:--     0
100 73507  100 73507    0     0  2139k      0 --:--:-- --:--:-- --:--:-- 2392k

install for i386

* installing *source* package 'biocViews' ...
** using staged installation
** R
** data
** inst
** byte-compile and prepare package for lazy loading
** help
*** installing help indices
  converting help for package 'biocViews'
    finding HTML links ... done
    BiocView-class                          html  
    Htmlized-class                          html  
    PackageDetail-class                     html  
    RepositoryDetail-class                  html  
    biocViews-package                       html  
    biocViewsVocab                          html  
    extractManuals                          html  
    extractNEWS                             html  
    extractTopLevelFiles                    html  
    extractVignettes                        html  
    genReposControlFiles                    html  
    getBiocSubViews                         html  
    getBiocViews                            html  
    getCurrentbiocViews                     html  
    getPackageNEWS                          html  
    getPackageTitles                        html  
    getPacksAndViews                        html  
    getSubTerms                             html  
    guessPackageType                        html  
    htmlDoc                                 html  
    htmlFilename                            html  
    htmlValue                               html  
    recommendBiocViews                      html  
    recommendPackages                       html  
    validation_tests                        html  
    writeBiocViews                          html  
    writeHtmlDoc                            html  
    writePackageDetailHtml                  html  
    writeRFilesFromVignettes                html  
    writeRepositoryHtml                     html  
    writeTopLevelView                       html  
    write_REPOSITORY                        html  
    write_SYMBOLS                           html  
    write_VIEWS                             html  
** building package indices
** installing vignettes
   'HOWTO-BCV.Rnw' 
   'createReposHtml.Rnw' 
** testing if installed package can be loaded from temporary location
** testing if installed package can be loaded from final location
** testing if installed package keeps a record of temporary installation path

install for x64

* installing *source* package 'biocViews' ...
** testing if installed package can be loaded
* MD5 sums
packaged installation of 'biocViews' as biocViews_1.57.3.zip
* DONE (biocViews)
* installing to library 'C:/Users/biocbuild/bbs-3.12-bioc/R/library'
package 'biocViews' successfully unpacked and MD5 sums checked