Back to Multiple platform build/check report for BioC 3.12
[A]BCDEFGHIJKLMNOPQRSTUVWXYZ

BUILD report for a4Classif on malbec1

This page was generated on 2020-08-11 11:18:10 -0400 (Tue, 11 Aug 2020).

TO THE DEVELOPERS/MAINTAINERS OF THE a4Classif PACKAGE: Please make sure to use the following settings in order to reproduce any error or warning you see on this page.
Package 3/1885HostnameOS / ArchINSTALLBUILDCHECKBUILD BIN
a4Classif 1.37.0
Tobias Verbeke
Snapshot Date: 2020-08-10 14:50:56 -0400 (Mon, 10 Aug 2020)
URL: https://git.bioconductor.org/packages/a4Classif
Branch: master
Last Commit: a9ae689
Last Changed Date: 2020-04-27 14:25:23 -0400 (Mon, 27 Apr 2020)
malbec1 Linux (Ubuntu 18.04.4 LTS) / x86_64  OK [ OK ] OK UNNEEDED, same version exists in internal repository
nebbiolo1 Linux (Ubuntu 20.04.1 LTS) / x86_64  OK  OK  NA 
tokay1 Windows Server 2012 R2 Standard / x64  OK  OK  OK  OK UNNEEDED, same version exists in internal repository
merida1 macOS 10.14.6 Mojave / x86_64  OK  OK  OK  OK UNNEEDED, same version exists in internal repository

Summary

Package: a4Classif
Version: 1.37.0
Command: /home/biocbuild/bbs-3.12-bioc/R/bin/R CMD build --keep-empty-dirs --no-resave-data a4Classif
StartedAt: 2020-08-10 18:12:46 -0400 (Mon, 10 Aug 2020)
EndedAt: 2020-08-10 18:12:47 -0400 (Mon, 10 Aug 2020)
EllapsedTime: 1.0 seconds
RetCode: 0
Status:  OK 
PackageFile: a4Classif_1.37.0.tar.gz
PackageFileSize: 5.266 KiB

Command output

##############################################################################
##############################################################################
###
### Running command:
###
###   /home/biocbuild/bbs-3.12-bioc/R/bin/R CMD build --keep-empty-dirs --no-resave-data a4Classif
###
##############################################################################
##############################################################################


* checking for file ‘a4Classif/DESCRIPTION’ ... OK
* preparing ‘a4Classif’:
* checking DESCRIPTION meta-information ... OK
* checking for LF line-endings in source and make files and shell scripts
* checking for empty or unneeded directories
* building ‘a4Classif_1.37.0.tar.gz’