Back to Multiple platform build/check report for BioC 3.12
[A]BCDEFGHIJKLMNOPQRSTUVWXYZ

BUILD report for ASSIGN on tokay1

This page was generated on 2020-08-09 12:03:53 -0400 (Sun, 09 Aug 2020).

TO THE DEVELOPERS/MAINTAINERS OF THE ASSIGN PACKAGE: Please make sure to use the following settings in order to reproduce any error or warning you see on this page.
Package 92/1882HostnameOS / ArchINSTALLBUILDCHECKBUILD BIN
ASSIGN 1.25.0
Ying Shen , W. Evan Johnson
Snapshot Date: 2020-08-08 14:51:01 -0400 (Sat, 08 Aug 2020)
URL: https://git.bioconductor.org/packages/ASSIGN
Branch: master
Last Commit: e608089
Last Changed Date: 2020-04-27 14:39:28 -0400 (Mon, 27 Apr 2020)
malbec1 Linux (Ubuntu 18.04.4 LTS) / x86_64  OK  OK  OK UNNEEDED, same version exists in internal repository
nebbiolo1 Linux (Ubuntu 20.04.1 LTS) / x86_64  OK  OK  OK 
tokay1 Windows Server 2012 R2 Standard / x64  OK [ OK ] OK  OK UNNEEDED, same version exists in internal repository
merida1 macOS 10.14.6 Mojave / x86_64  OK  OK  OK  OK UNNEEDED, same version exists in internal repository

Summary

Package: ASSIGN
Version: 1.25.0
Command: chmod a+r ASSIGN -R && C:\Users\biocbuild\bbs-3.12-bioc\R\bin\R.exe CMD build --keep-empty-dirs --no-resave-data ASSIGN
StartedAt: 2020-08-08 20:06:19 -0400 (Sat, 08 Aug 2020)
EndedAt: 2020-08-08 20:06:32 -0400 (Sat, 08 Aug 2020)
EllapsedTime: 13.5 seconds
RetCode: 0
Status:  OK  
PackageFile: ASSIGN_1.25.0.tar.gz
PackageFileSize: 1.608 MiB

Command output

##############################################################################
##############################################################################
###
### Running command:
###
###   chmod a+r ASSIGN -R && C:\Users\biocbuild\bbs-3.12-bioc\R\bin\R.exe CMD build --keep-empty-dirs --no-resave-data ASSIGN
###
##############################################################################
##############################################################################


* checking for file 'ASSIGN/DESCRIPTION' ... OK
* preparing 'ASSIGN':
* checking DESCRIPTION meta-information ... OK
* installing the package to build vignettes
* creating vignettes ... OK
* checking for LF line-endings in source and make files and shell scripts
* checking for empty or unneeded directories
* building 'ASSIGN_1.25.0.tar.gz'