Back to Multiple platform build/check report for BioC 3.12 |
|
This page was generated on 2021-02-22 12:32:15 -0500 (Mon, 22 Feb 2021).
To the developers/maintainers of the rTRMui package: Please make sure to use the following settings in order to reproduce any error or warning you see on this page. |
Package 1601/1974 | Hostname | OS / Arch | INSTALL | BUILD | CHECK | BUILD BIN | ||||||||
rTRMui 1.28.0 Diego Diez
| malbec1 | Linux (Ubuntu 18.04.5 LTS) / x86_64 | OK | OK | OK | ![]() | ||||||||
nebbiolo1 | Linux (Ubuntu 20.04.2 LTS) / x86_64 | OK | OK | OK | ||||||||||
tokay1 | Windows Server 2012 R2 Standard / x64 | OK | OK | OK | OK | ![]() | ||||||||
merida1 | macOS 10.14.6 Mojave / x86_64 | OK | OK | OK | OK | ![]() | ||||||||
Package: rTRMui |
Version: 1.28.0 |
Command: /home/biocbuild/bbs-3.12-bioc/R/bin/R CMD INSTALL rTRMui |
StartedAt: 2021-02-21 16:43:30 -0500 (Sun, 21 Feb 2021) |
EndedAt: 2021-02-21 16:44:23 -0500 (Sun, 21 Feb 2021) |
EllapsedTime: 53.1 seconds |
RetCode: 0 |
Status: OK |
############################################################################## ############################################################################## ### ### Running command: ### ### /home/biocbuild/bbs-3.12-bioc/R/bin/R CMD INSTALL rTRMui ### ############################################################################## ############################################################################## * installing to library ‘/home/biocbuild/bbs-3.12-bioc/R/library’ * installing *source* package ‘rTRMui’ ... ** using staged installation ** R ** inst ** byte-compile and prepare package for lazy loading See system.file("LICENSE", package="MotifDb") for use restrictions. ** help *** installing help indices ** building package indices ** installing vignettes ** testing if installed package can be loaded from temporary location See system.file("LICENSE", package="MotifDb") for use restrictions. ** testing if installed package can be loaded from final location See system.file("LICENSE", package="MotifDb") for use restrictions. ** testing if installed package keeps a record of temporary installation path * DONE (rTRMui)