Back to Multiple platform build/check report for BioC 3.12
A[B]CDEFGHIJKLMNOPQRSTUVWXYZ

CHECK report for BCRANK on merida1

This page was generated on 2020-08-11 11:52:23 -0400 (Tue, 11 Aug 2020).

TO THE DEVELOPERS/MAINTAINERS OF THE BCRANK PACKAGE: Please make sure to use the following settings in order to reproduce any error or warning you see on this page.
Package 122/1885HostnameOS / ArchINSTALLBUILDCHECKBUILD BIN
BCRANK 1.51.0
Adam Ameur
Snapshot Date: 2020-08-10 14:50:56 -0400 (Mon, 10 Aug 2020)
URL: https://git.bioconductor.org/packages/BCRANK
Branch: master
Last Commit: 35c15f3
Last Changed Date: 2020-04-27 14:16:34 -0400 (Mon, 27 Apr 2020)
malbec1 Linux (Ubuntu 18.04.4 LTS) / x86_64  OK  OK  OK UNNEEDED, same version exists in internal repository
nebbiolo1 Linux (Ubuntu 20.04.1 LTS) / x86_64  OK  OK  NA 
tokay1 Windows Server 2012 R2 Standard / x64  OK  OK  OK  OK UNNEEDED, same version exists in internal repository
merida1 macOS 10.14.6 Mojave / x86_64  OK  OK [ OK ] OK UNNEEDED, same version exists in internal repository

Summary

Package: BCRANK
Version: 1.51.0
Command: /Library/Frameworks/R.framework/Versions/Current/Resources/bin/R CMD check --install=check:BCRANK.install-out.txt --library=/Library/Frameworks/R.framework/Versions/Current/Resources/library --no-vignettes --timings BCRANK_1.51.0.tar.gz
StartedAt: 2020-08-10 23:08:55 -0400 (Mon, 10 Aug 2020)
EndedAt: 2020-08-10 23:10:32 -0400 (Mon, 10 Aug 2020)
EllapsedTime: 97.7 seconds
RetCode: 0
Status:  OK 
CheckDir: BCRANK.Rcheck
Warnings: 0

Command output

##############################################################################
##############################################################################
###
### Running command:
###
###   /Library/Frameworks/R.framework/Versions/Current/Resources/bin/R CMD check --install=check:BCRANK.install-out.txt --library=/Library/Frameworks/R.framework/Versions/Current/Resources/library --no-vignettes --timings BCRANK_1.51.0.tar.gz
###
##############################################################################
##############################################################################


* using log directory ‘/Users/biocbuild/bbs-3.12-bioc/meat/BCRANK.Rcheck’
* using R version 4.0.2 (2020-06-22)
* using platform: x86_64-apple-darwin17.0 (64-bit)
* using session charset: UTF-8
* using option ‘--no-vignettes’
* checking for file ‘BCRANK/DESCRIPTION’ ... OK
* this is package ‘BCRANK’ version ‘1.51.0’
* checking package namespace information ... OK
* checking package dependencies ... OK
* checking if this is a source package ... OK
* checking if there is a namespace ... OK
* checking for hidden files and directories ... OK
* checking for portable file names ... OK
* checking for sufficient/correct file permissions ... OK
* checking whether package ‘BCRANK’ can be installed ... OK
* checking installed package size ... OK
* checking package directory ... OK
* checking ‘build’ directory ... OK
* checking DESCRIPTION meta-information ... NOTE
Malformed Description field: should contain one or more complete sentences.
* checking top-level files ... OK
* checking for left-over files ... OK
* checking index information ... OK
* checking package subdirectories ... OK
* checking R files for non-ASCII characters ... OK
* checking R files for syntax errors ... OK
* checking whether the package can be loaded ... OK
* checking whether the package can be loaded with stated dependencies ... OK
* checking whether the package can be unloaded cleanly ... OK
* checking whether the namespace can be loaded with stated dependencies ... OK
* checking whether the namespace can be unloaded cleanly ... OK
* checking dependencies in R code ... NOTE
'library' or 'require' call to ‘methods’ which was already attached by Depends.
  Please remove these calls from your code.
* checking S3 generic/method consistency ... OK
* checking replacement functions ... OK
* checking foreign function calls ... OK
* checking R code for possible problems ... NOTE
File ‘BCRANK/R/AllClasses.R’:
  .onLoad calls:
    require("methods", quietly = TRUE)

Package startup functions should not change the search path.
See section ‘Good practice’ in '?.onAttach'.

bcrankRun: no visible global function definition for ‘flush.console’
getBCRANKScore: no visible global function definition for ‘t.test’
hitsForNeighboursInC: no visible global function definition for
  ‘flush.console’
plot,BCRANKsearch-missing: no visible global function definition for
  ‘rainbow’
plot,BCRANKsearch-missing: no visible binding for global variable
  ‘points’
plot,BCRANKsearch-missing: no visible global function definition for
  ‘legend’
Undefined global functions or variables:
  flush.console legend points rainbow t.test
Consider adding
  importFrom("grDevices", "rainbow")
  importFrom("graphics", "legend", "points")
  importFrom("stats", "t.test")
  importFrom("utils", "flush.console")
to your NAMESPACE file.
* checking Rd files ... OK
* checking Rd metadata ... OK
* checking Rd cross-references ... OK
* checking for missing documentation entries ... OK
* checking for code/documentation mismatches ... OK
* checking Rd \usage sections ... OK
* checking Rd contents ... OK
* checking for unstated dependencies in examples ... OK
* checking contents of ‘data’ directory ... OK
* checking data for non-ASCII characters ... OK
* checking data for ASCII and uncompressed saves ... OK
* checking line endings in C/C++/Fortran sources/headers ... OK
* checking compiled code ... NOTE
Note: information on .o files is not available
* checking sizes of PDF files under ‘inst/doc’ ... NOTE
  ‘qpdf’ made some significant size reductions:
     compacted ‘BCRANK.pdf’ from 1112Kb to 968Kb
  consider running tools::compactPDF() on these files
* checking files in ‘vignettes’ ... OK
* checking examples ... OK
* checking for unstated dependencies in vignettes ... OK
* checking package vignettes in ‘inst/doc’ ... OK
* checking running R code from vignettes ... SKIPPED
* checking re-building of vignette outputs ... SKIPPED
* checking PDF version of manual ... OK
* DONE

Status: 5 NOTEs
See
  ‘/Users/biocbuild/bbs-3.12-bioc/meat/BCRANK.Rcheck/00check.log’
for details.



Installation output

BCRANK.Rcheck/00install.out

##############################################################################
##############################################################################
###
### Running command:
###
###   /Library/Frameworks/R.framework/Versions/Current/Resources/bin/R CMD INSTALL BCRANK
###
##############################################################################
##############################################################################


* installing to library ‘/Library/Frameworks/R.framework/Versions/4.0/Resources/library’
* installing *source* package ‘BCRANK’ ...
** using staged installation
** libs
clang -mmacosx-version-min=10.13 -I"/Library/Frameworks/R.framework/Resources/include" -DNDEBUG   -I/usr/local/include   -fPIC  -Wall -g -O2  -c init.c -o init.o
clang -mmacosx-version-min=10.13 -I"/Library/Frameworks/R.framework/Resources/include" -DNDEBUG   -I/usr/local/include   -fPIC  -Wall -g -O2  -c match_consensus.c -o match_consensus.o
clang -mmacosx-version-min=10.13 -dynamiclib -Wl,-headerpad_max_install_names -undefined dynamic_lookup -single_module -multiply_defined suppress -L/Library/Frameworks/R.framework/Resources/lib -L/usr/local/lib -o BCRANK.so init.o match_consensus.o -F/Library/Frameworks/R.framework/.. -framework R -Wl,-framework -Wl,CoreFoundation
installing to /Library/Frameworks/R.framework/Versions/4.0/Resources/library/00LOCK-BCRANK/00new/BCRANK/libs
** R
** data
** inst
** byte-compile and prepare package for lazy loading
** help
*** installing help indices
** building package indices
** installing vignettes
** testing if installed package can be loaded from temporary location
** checking absolute paths in shared objects and dynamic libraries
** testing if installed package can be loaded from final location
** testing if installed package keeps a record of temporary installation path
* DONE (BCRANK)

Tests output


Example timings

BCRANK.Rcheck/BCRANK-Ex.timings

nameusersystemelapsed
bcrank0.0850.0110.097