Back to Multiple platform build/check report for BioC 3.12
AB[C]DEFGHIJKLMNOPQRSTUVWXYZ

BUILD report for caOmicsV on malbec1

This page was generated on 2020-08-12 11:18:34 -0400 (Wed, 12 Aug 2020).

TO THE DEVELOPERS/MAINTAINERS OF THE caOmicsV PACKAGE: Please make sure to use the following settings in order to reproduce any error or warning you see on this page.
Package 223/1885HostnameOS / ArchINSTALLBUILDCHECKBUILD BIN
caOmicsV 1.19.0
Henry Zhang
Snapshot Date: 2020-08-11 14:50:16 -0400 (Tue, 11 Aug 2020)
URL: https://git.bioconductor.org/packages/caOmicsV
Branch: master
Last Commit: 2d96ecc
Last Changed Date: 2020-04-27 14:49:25 -0400 (Mon, 27 Apr 2020)
malbec1 Linux (Ubuntu 18.04.4 LTS) / x86_64  OK [ OK ] WARNINGS UNNEEDED, same version exists in internal repository
nebbiolo1 Linux (Ubuntu 20.04.1 LTS) / x86_64  OK  OK  WARNINGS 
tokay1 Windows Server 2012 R2 Standard / x64  OK  OK  WARNINGS  OK UNNEEDED, same version exists in internal repository
merida1 macOS 10.14.6 Mojave / x86_64  OK  OK  WARNINGS  OK UNNEEDED, same version exists in internal repository

Summary

Package: caOmicsV
Version: 1.19.0
Command: /home/biocbuild/bbs-3.12-bioc/R/bin/R CMD build --keep-empty-dirs --no-resave-data caOmicsV
StartedAt: 2020-08-11 19:58:52 -0400 (Tue, 11 Aug 2020)
EndedAt: 2020-08-11 19:59:22 -0400 (Tue, 11 Aug 2020)
EllapsedTime: 30.0 seconds
RetCode: 0
Status:  OK 
PackageFile: caOmicsV_1.19.0.tar.gz
PackageFileSize: 4.315 MiB

Command output

##############################################################################
##############################################################################
###
### Running command:
###
###   /home/biocbuild/bbs-3.12-bioc/R/bin/R CMD build --keep-empty-dirs --no-resave-data caOmicsV
###
##############################################################################
##############################################################################


* checking for file ‘caOmicsV/DESCRIPTION’ ... OK
* preparing ‘caOmicsV’:
* checking DESCRIPTION meta-information ... OK
* installing the package to build vignettes
* creating vignettes ... OK
* checking for LF line-endings in source and make files and shell scripts
* checking for empty or unneeded directories
* looking to see if a ‘data/datalist’ file should be added
* building ‘caOmicsV_1.19.0.tar.gz’