Back to Multiple platform build/check report for BioC 3.12
AB[C]DEFGHIJKLMNOPQRSTUVWXYZ

BUILD report for CGHregions on malbec1

This page was generated on 2020-08-12 11:14:37 -0400 (Wed, 12 Aug 2020).

TO THE DEVELOPERS/MAINTAINERS OF THE CGHregions PACKAGE: Please make sure to use the following settings in order to reproduce any error or warning you see on this page.
Package 260/1885HostnameOS / ArchINSTALLBUILDCHECKBUILD BIN
CGHregions 1.47.0
Sjoerd Vosse
Snapshot Date: 2020-08-11 14:50:16 -0400 (Tue, 11 Aug 2020)
URL: https://git.bioconductor.org/packages/CGHregions
Branch: master
Last Commit: da162cb
Last Changed Date: 2020-04-27 14:17:20 -0400 (Mon, 27 Apr 2020)
malbec1 Linux (Ubuntu 18.04.4 LTS) / x86_64  OK [ OK ] OK UNNEEDED, same version exists in internal repository
nebbiolo1 Linux (Ubuntu 20.04.1 LTS) / x86_64  OK  OK  OK 
tokay1 Windows Server 2012 R2 Standard / x64  OK  OK  OK  OK UNNEEDED, same version exists in internal repository
merida1 macOS 10.14.6 Mojave / x86_64  OK  OK  OK  OK UNNEEDED, same version exists in internal repository

Summary

Package: CGHregions
Version: 1.47.0
Command: /home/biocbuild/bbs-3.12-bioc/R/bin/R CMD build --keep-empty-dirs --no-resave-data CGHregions
StartedAt: 2020-08-11 18:15:52 -0400 (Tue, 11 Aug 2020)
EndedAt: 2020-08-11 18:16:02 -0400 (Tue, 11 Aug 2020)
EllapsedTime: 10.4 seconds
RetCode: 0
Status:  OK 
PackageFile: CGHregions_1.47.0.tar.gz
PackageFileSize: 150.8 KiB

Command output

##############################################################################
##############################################################################
###
### Running command:
###
###   /home/biocbuild/bbs-3.12-bioc/R/bin/R CMD build --keep-empty-dirs --no-resave-data CGHregions
###
##############################################################################
##############################################################################


* checking for file ‘CGHregions/DESCRIPTION’ ... OK
* preparing ‘CGHregions’:
* checking DESCRIPTION meta-information ... OK
* installing the package to build vignettes
* creating vignettes ... OK
* checking for LF line-endings in source and make files and shell scripts
* checking for empty or unneeded directories
* building ‘CGHregions_1.47.0.tar.gz’