Back to Multiple platform build/check report for BioC 3.12
[A]BCDEFGHIJKLMNOPQRSTUVWXYZ

INSTALL report for AnnotationForge on tokay1

This page was generated on 2020-09-19 10:19:21 -0400 (Sat, 19 Sep 2020).

TO THE DEVELOPERS/MAINTAINERS OF THE AnnotationForge PACKAGE: Please make sure to use the following settings in order to reproduce any error or warning you see on this page.
Package 61/1912HostnameOS / ArchINSTALLBUILDCHECKBUILD BIN
AnnotationForge 1.31.2
Bioconductor Package Maintainer
Snapshot Date: 2020-09-18 14:43:25 -0400 (Fri, 18 Sep 2020)
URL: https://git.bioconductor.org/packages/AnnotationForge
Branch: master
Last Commit: 7382b9a
Last Changed Date: 2020-06-01 17:00:58 -0400 (Mon, 01 Jun 2020)
malbec1 Linux (Ubuntu 18.04.4 LTS) / x86_64  OK  OK  OK UNNEEDED, same version exists in internal repository
nebbiolo1 Linux (Ubuntu 20.04.1 LTS) / x86_64  OK  ERROR  skipped 
tokay1 Windows Server 2012 R2 Standard / x64 [ OK ] OK  OK  OK UNNEEDED, same version exists in internal repository
riesling1 Windows Server 2019 Standard / x64  OK  OK  OK  OK 
merida1 macOS 10.14.6 Mojave / x86_64  OK  OK  OK  OK UNNEEDED, same version exists in internal repository

Summary

Package: AnnotationForge
Version: 1.31.2
Command: C:\cygwin\bin\curl.exe -O https://malbec1.bioconductor.org/BBS/3.12/bioc/src/contrib/AnnotationForge_1.31.2.tar.gz && rm -rf AnnotationForge.buildbin-libdir && mkdir AnnotationForge.buildbin-libdir && C:\Users\biocbuild\bbs-3.12-bioc\R\bin\R.exe CMD INSTALL --merge-multiarch --build --library=AnnotationForge.buildbin-libdir AnnotationForge_1.31.2.tar.gz && C:\Users\biocbuild\bbs-3.12-bioc\R\bin\R.exe CMD INSTALL AnnotationForge_1.31.2.zip && rm AnnotationForge_1.31.2.tar.gz AnnotationForge_1.31.2.zip
StartedAt: 2020-09-18 17:08:14 -0400 (Fri, 18 Sep 2020)
EndedAt: 2020-09-18 17:12:31 -0400 (Fri, 18 Sep 2020)
EllapsedTime: 257.0 seconds
RetCode: 0
Status:  OK  

Command output

##############################################################################
##############################################################################
###
### Running command:
###
###   C:\cygwin\bin\curl.exe -O https://malbec1.bioconductor.org/BBS/3.12/bioc/src/contrib/AnnotationForge_1.31.2.tar.gz && rm -rf AnnotationForge.buildbin-libdir && mkdir AnnotationForge.buildbin-libdir && C:\Users\biocbuild\bbs-3.12-bioc\R\bin\R.exe CMD INSTALL --merge-multiarch --build --library=AnnotationForge.buildbin-libdir AnnotationForge_1.31.2.tar.gz && C:\Users\biocbuild\bbs-3.12-bioc\R\bin\R.exe CMD INSTALL AnnotationForge_1.31.2.zip && rm AnnotationForge_1.31.2.tar.gz AnnotationForge_1.31.2.zip
###
##############################################################################
##############################################################################


  % Total    % Received % Xferd  Average Speed   Time    Time     Time  Current
                                 Dload  Upload   Total   Spent    Left  Speed

  0     0    0     0    0     0      0      0 --:--:-- --:--:-- --:--:--     0
100 3284k  100 3284k    0     0  11.8M      0 --:--:-- --:--:-- --:--:-- 12.0M

install for i386

* installing *source* package 'AnnotationForge' ...
** using staged installation
** R
** inst
** byte-compile and prepare package for lazy loading
** help
*** installing help indices
  converting help for package 'AnnotationForge'
    finding HTML links ... done
    AnnDbPkg-maker                          html  
    finding level-2 HTML links ... done

    available.db0pkgs                       html  
    generateSeqnames_db                     html  
    getProbeDataAffy                        html  
    getProbeData_1lq                        html  
    makeChipPackageFromDataFrames           html  
    makeInpDb                               html  
    makeOrgPackage                          html  
    makeOrgPackageFromNCBI                  html  
    makeProbePackage                        html  
    sqlForge-makeCHIPDB                     html  
    sqlForge-popDB                          html  
    sqlForge-wrapDBPackages                 html  
** building package indices
** installing vignettes
** testing if installed package can be loaded from temporary location
** testing if installed package can be loaded from final location
** testing if installed package keeps a record of temporary installation path

install for x64

* installing *source* package 'AnnotationForge' ...
** testing if installed package can be loaded
* MD5 sums
packaged installation of 'AnnotationForge' as AnnotationForge_1.31.2.zip
* DONE (AnnotationForge)
* installing to library 'C:/Users/biocbuild/bbs-3.12-bioc/R/library'
package 'AnnotationForge' successfully unpacked and MD5 sums checked