Back to Multiple platform build/check report for BioC 3.12
AB[C]DEFGHIJKLMNOPQRSTUVWXYZ

BUILD report for cghMCR on tokay1

This page was generated on 2020-10-25 12:06:21 -0400 (Sun, 25 Oct 2020).

TO THE DEVELOPERS/MAINTAINERS OF THE cghMCR PACKAGE: Please make sure to use the following settings in order to reproduce any error or warning you see on this page.
Package 270/1974HostnameOS / ArchINSTALLBUILDCHECKBUILD BIN
cghMCR 1.47.0
J. Zhang
Snapshot Date: 2020-10-24 14:40:19 -0400 (Sat, 24 Oct 2020)
URL: https://git.bioconductor.org/packages/cghMCR
Branch: master
Last Commit: ac6f1bb
Last Changed Date: 2020-04-27 14:13:14 -0400 (Mon, 27 Apr 2020)
malbec1 Linux (Ubuntu 18.04.4 LTS) / x86_64  OK  OK  WARNINGS UNNEEDED, same version exists in internal repository
nebbiolo1 Linux (Ubuntu 20.04.1 LTS) / x86_64  OK  OK  WARNINGS 
tokay1 Windows Server 2012 R2 Standard / x64  OK [ OK ] WARNINGS  OK UNNEEDED, same version exists in internal repository
riesling1 Windows Server 2019 Standard / x64  OK  OK  WARNINGS  OK 
merida1 macOS 10.14.6 Mojave / x86_64  OK  OK  WARNINGS  OK UNNEEDED, same version exists in internal repository

Summary

Package: cghMCR
Version: 1.47.0
Command: chmod a+r cghMCR -R && C:\Users\biocbuild\bbs-3.12-bioc\R\bin\R.exe CMD build --keep-empty-dirs --no-resave-data cghMCR
StartedAt: 2020-10-24 20:02:12 -0400 (Sat, 24 Oct 2020)
EndedAt: 2020-10-24 20:03:49 -0400 (Sat, 24 Oct 2020)
EllapsedTime: 97.6 seconds
RetCode: 0
Status:  OK  
PackageFile: cghMCR_1.47.0.tar.gz
PackageFileSize: 36.03 MiB

Command output

##############################################################################
##############################################################################
###
### Running command:
###
###   chmod a+r cghMCR -R && C:\Users\biocbuild\bbs-3.12-bioc\R\bin\R.exe CMD build --keep-empty-dirs --no-resave-data cghMCR
###
##############################################################################
##############################################################################


* checking for file 'cghMCR/DESCRIPTION' ... OK
* preparing 'cghMCR':
* checking DESCRIPTION meta-information ... OK
* installing the package to build vignettes
* creating vignettes ... OK
* checking for LF line-endings in source and make files and shell scripts
* checking for empty or unneeded directories
* looking to see if a 'data/datalist' file should be added
* building 'cghMCR_1.47.0.tar.gz'