Back to Multiple platform build/check report for BioC 3.12
[A]BCDEFGHIJKLMNOPQRSTUVWXYZ

INSTALL report for ADaCGH2 on malbec1

This page was generated on 2021-04-12 12:25:11 -0400 (Mon, 12 Apr 2021).

To the developers/maintainers of the ADaCGH2 package:
Please make sure to use the following settings in order to reproduce any error or warning you see on this page.
Package 15/1974HostnameOS / ArchINSTALLBUILDCHECKBUILD BIN
ADaCGH2 2.30.0  (landing page)
Ramon Diaz-Uriarte
Snapshot Date: 2021-04-11 14:51:36 -0400 (Sun, 11 Apr 2021)
URL: https://git.bioconductor.org/packages/ADaCGH2
Branch: RELEASE_3_12
Last Commit: 1d62234
Last Changed Date: 2020-10-27 10:39:31 -0400 (Tue, 27 Oct 2020)
malbec1Linux (Ubuntu 18.04.5 LTS) / x86_64  OK    OK    OK  UNNEEDED, same version exists in internal repository
tokay1Windows Server 2012 R2 Standard / x64  OK    OK    OK    OK  UNNEEDED, same version exists in internal repository
merida1macOS 10.14.6 Mojave / x86_64  OK    OK    OK    OK  UNNEEDED, same version exists in internal repository

Summary

Package: ADaCGH2
Version: 2.30.0
Command: /home/biocbuild/bbs-3.12-bioc/R/bin/R CMD INSTALL ADaCGH2
StartedAt: 2021-04-11 16:54:08 -0400 (Sun, 11 Apr 2021)
EndedAt: 2021-04-11 16:54:30 -0400 (Sun, 11 Apr 2021)
EllapsedTime: 22.6 seconds
RetCode: 0
Status:   OK  

Command output

##############################################################################
##############################################################################
###
### Running command:
###
###   /home/biocbuild/bbs-3.12-bioc/R/bin/R CMD INSTALL ADaCGH2
###
##############################################################################
##############################################################################


* installing to library ‘/home/biocbuild/bbs-3.12-bioc/R/library’
* installing *source* package ‘ADaCGH2’ ...
** using staged installation
** libs
gcc -I"/home/biocbuild/bbs-3.12-bioc/R/include" -DNDEBUG   -I/usr/local/include   -fpic  -g -O2  -Wall -c init.c -o init.o
gcc -I"/home/biocbuild/bbs-3.12-bioc/R/include" -DNDEBUG   -I/usr/local/include   -fpic  -g -O2  -Wall -c r_haarseg.c -o r_haarseg.o
r_haarseg.c: In function ‘ad_HaarConv’:
r_haarseg.c:65:12: warning: unused variable ‘totalNorm’ [-Wunused-variable]
     double totalNorm;
            ^~~~~~~~~
r_haarseg.c: In function ‘ad_FindLocalPeaks’:
r_haarseg.c:152:8: warning: "/*" within comment [-Wcomment]
       }/* for j */
         
r_haarseg.c:176:8: warning: "/*" within comment [-Wcomment]
       }/* for j */
         
r_haarseg.c:128:9: warning: unused variable ‘j’ [-Wunused-variable]
   int k,j;
         ^
r_haarseg.c: In function ‘ad_HaarConv’:
r_haarseg.c:97:27: warning: ‘highNonNormed’ may be used uninitialized in this function [-Wmaybe-uninitialized]
             highNonNormed += signal[highEnd]*weight[highEnd] - signal[k-1]*weight[k-1];
             ~~~~~~~~~~~~~~^~~~~~~~~~~~~~~~~~~~~~~~~~~~~~~~~~~~~~~~~~~~~~~~~~~~~~~~~~~~
r_haarseg.c:96:26: warning: ‘lowNonNormed’ may be used uninitialized in this function [-Wmaybe-uninitialized]
             lowNonNormed += signal[lowEnd]*weight[lowEnd] - signal[k-1]*weight[k-1];
             ~~~~~~~~~~~~~^~~~~~~~~~~~~~~~~~~~~~~~~~~~~~~~~~~~~~~~~~~~~~~~~~~~~~~~~~
r_haarseg.c:99:27: warning: ‘highWeightSum’ may be used uninitialized in this function [-Wmaybe-uninitialized]
             highWeightSum += weight[highEnd] - weight[k-1];
             ~~~~~~~~~~~~~~^~~~~~~~~~~~~~~~~~~~~~~~~~~~~~~~
r_haarseg.c:98:26: warning: ‘lowWeightSum’ may be used uninitialized in this function [-Wmaybe-uninitialized]
             lowWeightSum += weight[k-1] - weight[lowEnd];
             ~~~~~~~~~~~~~^~~~~~~~~~~~~~~~~~~~~~~~~~~~~~~
gcc -shared -L/home/biocbuild/bbs-3.12-bioc/R/lib -L/usr/local/lib -o ADaCGH2.so init.o r_haarseg.o -L/home/biocbuild/bbs-3.12-bioc/R/lib -lR
installing to /home/biocbuild/bbs-3.12-bioc/R/library/00LOCK-ADaCGH2/00new/ADaCGH2/libs
** R
** data
** inst
** byte-compile and prepare package for lazy loading
** help
*** installing help indices
** building package indices
** installing vignettes
   ‘ADaCGH2.Rnw’ using ‘latin1’ 
** testing if installed package can be loaded from temporary location
** checking absolute paths in shared objects and dynamic libraries
** testing if installed package can be loaded from final location
** testing if installed package keeps a record of temporary installation path
* DONE (ADaCGH2)