Back to Multiple platform build/check report for BioC 3.12
A[B]CDEFGHIJKLMNOPQRSTUVWXYZ

CHECK report for bacon on malbec1

This page was generated on 2020-09-20 10:11:36 -0400 (Sun, 20 Sep 2020).

TO THE DEVELOPERS/MAINTAINERS OF THE bacon PACKAGE: Please make sure to use the following settings in order to reproduce any error or warning you see on this page.
Package 102/1912HostnameOS / ArchINSTALLBUILDCHECKBUILD BIN
bacon 1.17.0
Maarten van Iterson
Snapshot Date: 2020-09-19 14:40:23 -0400 (Sat, 19 Sep 2020)
URL: https://git.bioconductor.org/packages/bacon
Branch: master
Last Commit: 8c61588
Last Changed Date: 2020-04-27 14:55:31 -0400 (Mon, 27 Apr 2020)
malbec1 Linux (Ubuntu 18.04.4 LTS) / x86_64  OK  OK [ OK ]UNNEEDED, same version exists in internal repository
nebbiolo1 Linux (Ubuntu 20.04.1 LTS) / x86_64  OK  OK  OK 
tokay1 Windows Server 2012 R2 Standard / x64  OK  OK  OK  OK UNNEEDED, same version exists in internal repository
riesling1 Windows Server 2019 Standard / x64  OK  OK  OK  OK 
merida1 macOS 10.14.6 Mojave / x86_64  OK  OK  OK  OK UNNEEDED, same version exists in internal repository

Summary

Package: bacon
Version: 1.17.0
Command: /home/biocbuild/bbs-3.12-bioc/R/bin/R CMD check --install=check:bacon.install-out.txt --library=/home/biocbuild/bbs-3.12-bioc/R/library --no-vignettes --timings bacon_1.17.0.tar.gz
StartedAt: 2020-09-20 02:54:29 -0400 (Sun, 20 Sep 2020)
EndedAt: 2020-09-20 02:55:36 -0400 (Sun, 20 Sep 2020)
EllapsedTime: 67.1 seconds
RetCode: 0
Status:  OK 
CheckDir: bacon.Rcheck
Warnings: 0

Command output

##############################################################################
##############################################################################
###
### Running command:
###
###   /home/biocbuild/bbs-3.12-bioc/R/bin/R CMD check --install=check:bacon.install-out.txt --library=/home/biocbuild/bbs-3.12-bioc/R/library --no-vignettes --timings bacon_1.17.0.tar.gz
###
##############################################################################
##############################################################################


* using log directory ‘/home/biocbuild/bbs-3.12-bioc/meat/bacon.Rcheck’
* using R version 4.0.2 (2020-06-22)
* using platform: x86_64-pc-linux-gnu (64-bit)
* using session charset: UTF-8
* using option ‘--no-vignettes’
* checking for file ‘bacon/DESCRIPTION’ ... OK
* checking extension type ... Package
* this is package ‘bacon’ version ‘1.17.0’
* checking package namespace information ... OK
* checking package dependencies ... OK
* checking if this is a source package ... OK
* checking if there is a namespace ... OK
* checking for hidden files and directories ... OK
* checking for portable file names ... OK
* checking for sufficient/correct file permissions ... OK
* checking whether package ‘bacon’ can be installed ... OK
* checking installed package size ... OK
* checking package directory ... OK
* checking ‘build’ directory ... OK
* checking DESCRIPTION meta-information ... OK
* checking top-level files ... OK
* checking for left-over files ... OK
* checking index information ... OK
* checking package subdirectories ... OK
* checking R files for non-ASCII characters ... OK
* checking R files for syntax errors ... OK
* checking whether the package can be loaded ... OK
* checking whether the package can be loaded with stated dependencies ... OK
* checking whether the package can be unloaded cleanly ... OK
* checking whether the namespace can be loaded with stated dependencies ... OK
* checking whether the namespace can be unloaded cleanly ... OK
* checking dependencies in R code ... OK
* checking S3 generic/method consistency ... OK
* checking replacement functions ... OK
* checking foreign function calls ... OK
* checking R code for possible problems ... NOTE
.hist: no visible binding for global variable ‘..density..’
Undefined global functions or variables:
  ..density..
* checking Rd files ... OK
* checking Rd metadata ... OK
* checking Rd cross-references ... OK
* checking for missing documentation entries ... OK
* checking for code/documentation mismatches ... OK
* checking Rd \usage sections ... OK
* checking Rd contents ... OK
* checking for unstated dependencies in examples ... OK
* checking line endings in C/C++/Fortran sources/headers ... OK
* checking compiled code ... NOTE
Note: information on .o files is not available
* checking files in ‘vignettes’ ... OK
* checking examples ... OK
Examples with CPU (user + system) or elapsed time > 5s
                   user system elapsed
bacon            13.080  0.148   5.693
es-methods        8.376  0.052   2.852
meta-methods      7.920  0.072   2.895
topTable-methods  7.804  0.112   3.081
se-methods        7.796  0.072   3.145
* checking for unstated dependencies in ‘tests’ ... OK
* checking tests ...
  Running ‘testthat.R’
 OK
* checking for unstated dependencies in vignettes ... OK
* checking package vignettes in ‘inst/doc’ ... OK
* checking running R code from vignettes ... SKIPPED
* checking re-building of vignette outputs ... SKIPPED
* checking PDF version of manual ... OK
* DONE

Status: 2 NOTEs
See
  ‘/home/biocbuild/bbs-3.12-bioc/meat/bacon.Rcheck/00check.log’
for details.



Installation output

bacon.Rcheck/00install.out

##############################################################################
##############################################################################
###
### Running command:
###
###   /home/biocbuild/bbs-3.12-bioc/R/bin/R CMD INSTALL bacon
###
##############################################################################
##############################################################################


* installing to library ‘/home/biocbuild/bbs-3.12-bioc/R/library’
* installing *source* package ‘bacon’ ...
** using staged installation
** libs
gcc -I"/home/biocbuild/bbs-3.12-bioc/R/include" -DNDEBUG   -I/usr/local/include   -fpic  -g -O2  -Wall -c Rinit.c -o Rinit.o
Rinit.c:9:40: warning: missing braces around initializer [-Wmissing-braces]
 static const R_CMethodDef cMethods[] = {
                                        ^
gcc -I"/home/biocbuild/bbs-3.12-bioc/R/include" -DNDEBUG   -I/usr/local/include   -fpic  -g -O2  -Wall -c bacon.c -o bacon.o
gcc -shared -L/home/biocbuild/bbs-3.12-bioc/R/lib -L/usr/local/lib -o bacon.so Rinit.o bacon.o -L/home/biocbuild/bbs-3.12-bioc/R/lib -lR
installing to /home/biocbuild/bbs-3.12-bioc/R/library/00LOCK-bacon/00new/bacon/libs
** R
** inst
** byte-compile and prepare package for lazy loading
** help
*** installing help indices
** building package indices
** installing vignettes
** testing if installed package can be loaded from temporary location
** checking absolute paths in shared objects and dynamic libraries
** testing if installed package can be loaded from final location
** testing if installed package keeps a record of temporary installation path
* DONE (bacon)

Tests output

bacon.Rcheck/tests/testthat.Rout


R version 4.0.2 (2020-06-22) -- "Taking Off Again"
Copyright (C) 2020 The R Foundation for Statistical Computing
Platform: x86_64-pc-linux-gnu (64-bit)

R is free software and comes with ABSOLUTELY NO WARRANTY.
You are welcome to redistribute it under certain conditions.
Type 'license()' or 'licence()' for distribution details.

R is a collaborative project with many contributors.
Type 'contributors()' for more information and
'citation()' on how to cite R or R packages in publications.

Type 'demo()' for some demos, 'help()' for on-line help, or
'help.start()' for an HTML browser interface to help.
Type 'q()' to quit R.

> library(testthat)
> library(bacon)
Loading required package: ggplot2
Loading required package: BiocParallel
Loading required package: ellipse

Attaching package: 'ellipse'

The following object is masked from 'package:graphics':

    pairs

> test_check("bacon")
[1]  0.914158192 -0.009646065  0.997805988
══ testthat results  ═══════════════════════════════════════════════════════════
[ OK: 8 | SKIPPED: 0 | WARNINGS: 0 | FAILED: 0 ]
> 
> proc.time()
   user  system elapsed 
  13.22    0.26    7.72 

Example timings

bacon.Rcheck/bacon-Ex.timings

nameusersystemelapsed
bacon13.080 0.148 5.693
bias-methods0.1280.0000.130
dnormmix0.0040.0000.006
es-methods8.3760.0522.852
estimates-methods0.2080.0000.210
fit-methods0.2280.0000.235
inflation-methods0.2200.0000.223
meta-methods7.9200.0722.895
plotnormmix0.0000.0040.004
posteriors-methods0.1680.0000.168
pval-methods0.1280.0000.124
rnormmix0.0000.0000.001
se-methods7.7960.0723.145
topTable-methods7.8040.1123.081
traces-methods0.3800.0160.401
tstat-methods0.2240.0000.224