Back to Multiple platform build/check report for BioC 3.12
AB[C]DEFGHIJKLMNOPQRSTUVWXYZ

BUILD report for categoryCompare on merida1

This page was generated on 2020-08-13 11:50:33 -0400 (Thu, 13 Aug 2020).

TO THE DEVELOPERS/MAINTAINERS OF THE categoryCompare PACKAGE: Please make sure to use the following settings in order to reproduce any error or warning you see on this page.
Package 229/1885HostnameOS / ArchINSTALLBUILDCHECKBUILD BIN
categoryCompare 1.33.0
Robert M. Flight
Snapshot Date: 2020-08-12 14:52:00 -0400 (Wed, 12 Aug 2020)
URL: https://git.bioconductor.org/packages/categoryCompare
Branch: master
Last Commit: a7d8dcb
Last Changed Date: 2020-04-27 14:29:40 -0400 (Mon, 27 Apr 2020)
malbec1 Linux (Ubuntu 18.04.4 LTS) / x86_64  OK  OK  OK UNNEEDED, same version exists in internal repository
nebbiolo1 Linux (Ubuntu 20.04.1 LTS) / x86_64  OK  OK  OK 
tokay1 Windows Server 2012 R2 Standard / x64  OK  OK  OK  OK UNNEEDED, same version exists in internal repository
merida1 macOS 10.14.6 Mojave / x86_64  OK [ OK ] OK  OK UNNEEDED, same version exists in internal repository

Summary

Package: categoryCompare
Version: 1.33.0
Command: /Library/Frameworks/R.framework/Versions/Current/Resources/bin/R CMD build --keep-empty-dirs --no-resave-data categoryCompare
StartedAt: 2020-08-12 18:42:44 -0400 (Wed, 12 Aug 2020)
EndedAt: 2020-08-12 18:45:36 -0400 (Wed, 12 Aug 2020)
EllapsedTime: 171.9 seconds
RetCode: 0
Status:  OK 
PackageFile: categoryCompare_1.33.0.tar.gz
PackageFileSize: 2.961 MiB

Command output

##############################################################################
##############################################################################
###
### Running command:
###
###   /Library/Frameworks/R.framework/Versions/Current/Resources/bin/R CMD build --keep-empty-dirs --no-resave-data categoryCompare
###
##############################################################################
##############################################################################


* checking for file ‘categoryCompare/DESCRIPTION’ ... OK
* preparing ‘categoryCompare’:
* checking DESCRIPTION meta-information ... OK
* installing the package to build vignettes
* creating vignettes ... OK
* checking for LF line-endings in source and make files and shell scripts
* checking for empty or unneeded directories
* looking to see if a ‘data/datalist’ file should be added
* building ‘categoryCompare_1.33.0.tar.gz’