Back to Multiple platform build/check report for BioC 3.12
A[B]CDEFGHIJKLMNOPQRSTUVWXYZ

BUILD report for bigmelon on malbec1

This page was generated on 2021-02-22 12:28:41 -0500 (Mon, 22 Feb 2021).

To the developers/maintainers of the bigmelon package:
Please make sure to use the following settings in order to reproduce any error or warning you see on this page.
Package 148/1974HostnameOS / ArchINSTALLBUILDCHECKBUILD BIN
bigmelon 1.16.0
Tyler J. Gorrie-Stone
Snapshot Date: 2021-02-21 14:52:07 -0500 (Sun, 21 Feb 2021)
URL: https://git.bioconductor.org/packages/bigmelon
Branch: RELEASE_3_12
Last Commit: e87386b
Last Changed Date: 2020-10-27 11:17:49 -0500 (Tue, 27 Oct 2020)
malbec1Linux (Ubuntu 18.04.5 LTS) / x86_64  OK    OK    OK  UNNEEDED, same version exists in internal repository
nebbiolo1Linux (Ubuntu 20.04.2 LTS) / x86_64  OK    OK    OK  
tokay1Windows Server 2012 R2 Standard / x64  OK    OK    OK    OK  UNNEEDED, same version exists in internal repository
merida1macOS 10.14.6 Mojave / x86_64  OK    OK    OK    OK  UNNEEDED, same version exists in internal repository

Summary

Package: bigmelon
Version: 1.16.0
Command: /home/biocbuild/bbs-3.12-bioc/R/bin/R CMD build --keep-empty-dirs --no-resave-data bigmelon
StartedAt: 2021-02-21 17:57:02 -0500 (Sun, 21 Feb 2021)
EndedAt: 2021-02-21 17:58:38 -0500 (Sun, 21 Feb 2021)
EllapsedTime: 96.2 seconds
RetCode: 0
Status:   OK  
PackageFile: bigmelon_1.16.0.tar.gz
PackageFileSize: 888.3 KiB

Command output

##############################################################################
##############################################################################
###
### Running command:
###
###   /home/biocbuild/bbs-3.12-bioc/R/bin/R CMD build --keep-empty-dirs --no-resave-data bigmelon
###
##############################################################################
##############################################################################


* checking for file ‘bigmelon/DESCRIPTION’ ... OK
* preparing ‘bigmelon’:
* checking DESCRIPTION meta-information ... OK
* installing the package to build vignettes
* creating vignettes ... OK
* checking for LF line-endings in source and make files and shell scripts
* checking for empty or unneeded directories
* looking to see if a ‘data/datalist’ file should be added
* building ‘bigmelon_1.16.0.tar.gz’