Back to Multiple platform build/check report for BioC 3.12
[A]BCDEFGHIJKLMNOPQRSTUVWXYZ

INSTALL report for ASAFE on tokay1

This page was generated on 2020-08-06 12:03:08 -0400 (Thu, 06 Aug 2020).

TO THE DEVELOPERS/MAINTAINERS OF THE ASAFE PACKAGE: Please make sure to use the following settings in order to reproduce any error or warning you see on this page.
Package 84/1882HostnameOS / ArchINSTALLBUILDCHECKBUILD BIN
ASAFE 1.15.0
Qian Zhang
Snapshot Date: 2020-08-05 14:50:59 -0400 (Wed, 05 Aug 2020)
URL: https://git.bioconductor.org/packages/ASAFE
Branch: master
Last Commit: e0273ce
Last Changed Date: 2020-04-27 14:59:36 -0400 (Mon, 27 Apr 2020)
malbec1 Linux (Ubuntu 18.04.4 LTS) / x86_64  OK  OK  OK UNNEEDED, same version exists in internal repository
tokay1 Windows Server 2012 R2 Standard / x64 [ OK ] OK  OK  OK UNNEEDED, same version exists in internal repository
merida1 macOS 10.14.6 Mojave / x86_64  OK  OK  OK  OK UNNEEDED, same version exists in internal repository

Summary

Package: ASAFE
Version: 1.15.0
Command: C:\cygwin\bin\curl.exe -O https://malbec1.bioconductor.org/BBS/3.12/bioc/src/contrib/ASAFE_1.15.0.tar.gz && rm -rf ASAFE.buildbin-libdir && mkdir ASAFE.buildbin-libdir && C:\Users\biocbuild\bbs-3.12-bioc\R\bin\R.exe CMD INSTALL --merge-multiarch --build --library=ASAFE.buildbin-libdir ASAFE_1.15.0.tar.gz && C:\Users\biocbuild\bbs-3.12-bioc\R\bin\R.exe CMD INSTALL ASAFE_1.15.0.zip && rm ASAFE_1.15.0.tar.gz ASAFE_1.15.0.zip
StartedAt: 2020-08-05 16:39:48 -0400 (Wed, 05 Aug 2020)
EndedAt: 2020-08-05 16:40:20 -0400 (Wed, 05 Aug 2020)
EllapsedTime: 32.7 seconds
RetCode: 0
Status:  OK  

Command output

##############################################################################
##############################################################################
###
### Running command:
###
###   C:\cygwin\bin\curl.exe -O https://malbec1.bioconductor.org/BBS/3.12/bioc/src/contrib/ASAFE_1.15.0.tar.gz && rm -rf ASAFE.buildbin-libdir && mkdir ASAFE.buildbin-libdir && C:\Users\biocbuild\bbs-3.12-bioc\R\bin\R.exe CMD INSTALL --merge-multiarch --build --library=ASAFE.buildbin-libdir ASAFE_1.15.0.tar.gz && C:\Users\biocbuild\bbs-3.12-bioc\R\bin\R.exe CMD INSTALL ASAFE_1.15.0.zip && rm ASAFE_1.15.0.tar.gz ASAFE_1.15.0.zip
###
##############################################################################
##############################################################################


  % Total    % Received % Xferd  Average Speed   Time    Time     Time  Current
                                 Dload  Upload   Total   Spent    Left  Speed

  0     0    0     0    0     0      0      0 --:--:-- --:--:-- --:--:--     0
100  190k  100  190k    0     0  4293k      0 --:--:-- --:--:-- --:--:-- 4639k

install for i386

* installing *source* package 'ASAFE' ...
** using staged installation
** R
** data
*** moving datasets to lazyload DB
** inst
** byte-compile and prepare package for lazy loading
** help
*** installing help indices
  converting help for package 'ASAFE'
    finding HTML links ... done
    adm_ancestries_test                     html  
    adm_genotypes_test                      html  
    algorithm_1snp                          html  
    algorithm_1snp_wrapper                  html  
** building package indices
** installing vignettes
** testing if installed package can be loaded from temporary location
** testing if installed package can be loaded from final location
** testing if installed package keeps a record of temporary installation path

install for x64

* installing *source* package 'ASAFE' ...
** testing if installed package can be loaded
* MD5 sums
packaged installation of 'ASAFE' as ASAFE_1.15.0.zip
* DONE (ASAFE)
* installing to library 'C:/Users/biocbuild/bbs-3.12-bioc/R/library'
package 'ASAFE' successfully unpacked and MD5 sums checked