Back to Multiple platform build/check report for BioC 3.12
A[B]CDEFGHIJKLMNOPQRSTUVWXYZ

BUILD report for basilisk on merida1

This page was generated on 2020-08-12 12:05:48 -0400 (Wed, 12 Aug 2020).

TO THE DEVELOPERS/MAINTAINERS OF THE basilisk PACKAGE: Please make sure to use the following settings in order to reproduce any error or warning you see on this page.
Package 114/1885HostnameOS / ArchINSTALLBUILDCHECKBUILD BIN
basilisk 1.1.9
Aaron Lun
Snapshot Date: 2020-08-11 14:50:16 -0400 (Tue, 11 Aug 2020)
URL: https://git.bioconductor.org/packages/basilisk
Branch: master
Last Commit: 6818dce
Last Changed Date: 2020-07-17 16:35:06 -0400 (Fri, 17 Jul 2020)
malbec1 Linux (Ubuntu 18.04.4 LTS) / x86_64  OK  OK  OK UNNEEDED, same version exists in internal repository
nebbiolo1 Linux (Ubuntu 20.04.1 LTS) / x86_64  OK  OK  OK 
tokay1 Windows Server 2012 R2 Standard / x64  OK  OK  OK  OK UNNEEDED, same version exists in internal repository
merida1 macOS 10.14.6 Mojave / x86_64  OK [ OK ] OK  OK UNNEEDED, same version exists in internal repository

Summary

Package: basilisk
Version: 1.1.9
Command: /Library/Frameworks/R.framework/Versions/Current/Resources/bin/R CMD build --keep-empty-dirs --no-resave-data basilisk
StartedAt: 2020-08-11 22:04:47 -0400 (Tue, 11 Aug 2020)
EndedAt: 2020-08-11 22:04:59 -0400 (Tue, 11 Aug 2020)
EllapsedTime: 11.2 seconds
RetCode: 0
Status:  OK 
PackageFile: basilisk_1.1.9.tar.gz
PackageFileSize: 244.8 KiB

Command output

##############################################################################
##############################################################################
###
### Running command:
###
###   /Library/Frameworks/R.framework/Versions/Current/Resources/bin/R CMD build --keep-empty-dirs --no-resave-data basilisk
###
##############################################################################
##############################################################################


* checking for file ‘basilisk/DESCRIPTION’ ... OK
* preparing ‘basilisk’:
* checking DESCRIPTION meta-information ... OK
* installing the package to build vignettes
* creating vignettes ... OK
* checking for LF line-endings in source and make files and shell scripts
* checking for empty or unneeded directories
* building ‘basilisk_1.1.9.tar.gz’