Back to Multiple platform build/check report for BioC 3.12
[A]BCDEFGHIJKLMNOPQRSTUVWXYZ

BUILD BIN report for affylmGUI on merida1

This page was generated on 2020-08-13 11:47:55 -0400 (Thu, 13 Aug 2020).

TO THE DEVELOPERS/MAINTAINERS OF THE affylmGUI PACKAGE: Please make sure to use the following settings in order to reproduce any error or warning you see on this page.
Package 31/1885HostnameOS / ArchINSTALLBUILDCHECKBUILD BIN
affylmGUI 1.63.0
Gordon Smyth
Snapshot Date: 2020-08-12 14:52:00 -0400 (Wed, 12 Aug 2020)
URL: https://git.bioconductor.org/packages/affylmGUI
Branch: master
Last Commit: 4752dac
Last Changed Date: 2020-04-27 14:09:39 -0400 (Mon, 27 Apr 2020)
malbec1 Linux (Ubuntu 18.04.4 LTS) / x86_64  OK  OK  WARNINGS UNNEEDED, same version exists in internal repository
nebbiolo1 Linux (Ubuntu 20.04.1 LTS) / x86_64  OK  OK  OK 
tokay1 Windows Server 2012 R2 Standard / x64  OK  OK  OK  OK UNNEEDED, same version exists in internal repository
merida1 macOS 10.14.6 Mojave / x86_64  OK  OK  OK [ OK ]UNNEEDED, same version exists in internal repository

Summary

Package: affylmGUI
Version: 1.63.0
Command: rm -rf affylmGUI.buildbin-libdir && mkdir affylmGUI.buildbin-libdir && /Users/biocbuild/BBS/utils/build-universal.sh affylmGUI_1.63.0.tar.gz /Library/Frameworks/R.framework/Versions/Current/Resources/bin/R affylmGUI.buildbin-libdir
StartedAt: 2020-08-13 06:16:32 -0400 (Thu, 13 Aug 2020)
EndedAt: 2020-08-13 06:17:34 -0400 (Thu, 13 Aug 2020)
EllapsedTime: 62.5 seconds
RetCode: 0
Status:  OK 
PackageFile: affylmGUI_1.63.0.tgz
PackageFileSize: 2.069 MiB

Command output

##############################################################################
##############################################################################
###
### Running command:
###
###   rm -rf affylmGUI.buildbin-libdir && mkdir affylmGUI.buildbin-libdir && /Users/biocbuild/BBS/utils/build-universal.sh affylmGUI_1.63.0.tar.gz /Library/Frameworks/R.framework/Versions/Current/Resources/bin/R affylmGUI.buildbin-libdir
###
##############################################################################
##############################################################################


>>>>>>> 
>>>>>>> INSTALLATION WITH 'R CMD INSTALL --preclean --no-multiarch --library=affylmGUI.buildbin-libdir affylmGUI_1.63.0.tar.gz'
>>>>>>> 

* installing *source* package ‘affylmGUI’ ...
** using staged installation
** R
** inst
** byte-compile and prepare package for lazy loading
** help
*** installing help indices
** building package indices
** installing vignettes
** testing if installed package can be loaded from temporary location
** testing if installed package can be loaded from final location
** testing if installed package keeps a record of temporary installation path
* DONE (affylmGUI)