Back to Multiple platform build/check report for BioC 3.12
A[B]CDEFGHIJKLMNOPQRSTUVWXYZ

BUILD report for BUS on malbec1

This page was generated on 2020-08-07 11:16:34 -0400 (Fri, 07 Aug 2020).

TO THE DEVELOPERS/MAINTAINERS OF THE BUS PACKAGE: Please make sure to use the following settings in order to reproduce any error or warning you see on this page.
Package 209/1882HostnameOS / ArchINSTALLBUILDCHECKBUILD BIN
BUS 1.45.0
Yuanhua Liu
Snapshot Date: 2020-08-06 14:50:46 -0400 (Thu, 06 Aug 2020)
URL: https://git.bioconductor.org/packages/BUS
Branch: master
Last Commit: 91dd3f0
Last Changed Date: 2020-04-27 14:19:39 -0400 (Mon, 27 Apr 2020)
malbec1 Linux (Ubuntu 18.04.4 LTS) / x86_64  OK [ OK ] OK UNNEEDED, same version exists in internal repository
tokay1 Windows Server 2012 R2 Standard / x64  OK  OK  OK  OK UNNEEDED, same version exists in internal repository
merida1 macOS 10.14.6 Mojave / x86_64  OK  OK  OK  OK UNNEEDED, same version exists in internal repository

Summary

Package: BUS
Version: 1.45.0
Command: /home/biocbuild/bbs-3.12-bioc/R/bin/R CMD build --keep-empty-dirs --no-resave-data BUS
StartedAt: 2020-08-06 17:49:53 -0400 (Thu, 06 Aug 2020)
EndedAt: 2020-08-06 17:50:01 -0400 (Thu, 06 Aug 2020)
EllapsedTime: 7.3 seconds
RetCode: 0
Status:  OK 
PackageFile: BUS_1.45.0.tar.gz
PackageFileSize: 2.759 MiB

Command output

##############################################################################
##############################################################################
###
### Running command:
###
###   /home/biocbuild/bbs-3.12-bioc/R/bin/R CMD build --keep-empty-dirs --no-resave-data BUS
###
##############################################################################
##############################################################################


* checking for file ‘BUS/DESCRIPTION’ ... OK
* preparing ‘BUS’:
* checking DESCRIPTION meta-information ... OK
* cleaning src
* installing the package to build vignettes
* creating vignettes ... OK
* cleaning src
* checking for LF line-endings in source and make files and shell scripts
* checking for empty or unneeded directories
* looking to see if a ‘data/datalist’ file should be added
* building ‘BUS_1.45.0.tar.gz’