Back to Multiple platform build/check report for BioC 3.12
A[B]CDEFGHIJKLMNOPQRSTUVWXYZ

BUILD BIN report for bumphunter on tokay1

This page was generated on 2020-08-07 12:01:36 -0400 (Fri, 07 Aug 2020).

TO THE DEVELOPERS/MAINTAINERS OF THE bumphunter PACKAGE: Please make sure to use the following settings in order to reproduce any error or warning you see on this page.
Package 208/1882HostnameOS / ArchINSTALLBUILDCHECKBUILD BIN
bumphunter 1.31.0
Rafael A. Irizarry
Snapshot Date: 2020-08-06 14:50:46 -0400 (Thu, 06 Aug 2020)
URL: https://git.bioconductor.org/packages/bumphunter
Branch: master
Last Commit: 1d0ee5b
Last Changed Date: 2020-04-27 14:32:19 -0400 (Mon, 27 Apr 2020)
malbec1 Linux (Ubuntu 18.04.4 LTS) / x86_64  OK  OK  OK UNNEEDED, same version exists in internal repository
tokay1 Windows Server 2012 R2 Standard / x64  OK  OK  WARNINGS [ OK ]UNNEEDED, same version exists in internal repository
merida1 macOS 10.14.6 Mojave / x86_64  OK  OK  OK  OK UNNEEDED, same version exists in internal repository

Summary

Package: bumphunter
Version: 1.31.0
Command: rm -rf bumphunter.buildbin-libdir && mkdir bumphunter.buildbin-libdir && C:\Users\biocbuild\bbs-3.12-bioc\R\bin\R.exe CMD INSTALL --merge-multiarch --build --library=bumphunter.buildbin-libdir bumphunter_1.31.0.tar.gz
StartedAt: 2020-08-07 07:23:35 -0400 (Fri, 07 Aug 2020)
EndedAt: 2020-08-07 07:24:37 -0400 (Fri, 07 Aug 2020)
EllapsedTime: 62.0 seconds
RetCode: 0
Status:  OK  
PackageFile: bumphunter_1.31.0.zip
PackageFileSize: 4.482 MiB

Command output

##############################################################################
##############################################################################
###
### Running command:
###
###   rm -rf bumphunter.buildbin-libdir && mkdir bumphunter.buildbin-libdir && C:\Users\biocbuild\bbs-3.12-bioc\R\bin\R.exe CMD INSTALL --merge-multiarch --build --library=bumphunter.buildbin-libdir bumphunter_1.31.0.tar.gz
###
##############################################################################
##############################################################################



install for i386

* installing *source* package 'bumphunter' ...
** using staged installation
** R
** data
*** moving datasets to lazyload DB
** inst
** byte-compile and prepare package for lazy loading
** help
*** installing help indices
  converting help for package 'bumphunter'
    finding HTML links ... done
    TT                                      html  
    annotateNearest                         html  
Rd warning: C:/Users/biocbuild/bbs-3.12-bioc/tmpdir/RtmpUdQCxg/R.INSTALL3760636d32c4/bumphunter/man/annotateNearest.Rd:31: file link 'nearest' in package 'IRanges' does not exist and so has been treated as a topic
Rd warning: C:/Users/biocbuild/bbs-3.12-bioc/tmpdir/RtmpUdQCxg/R.INSTALL3760636d32c4/bumphunter/man/annotateNearest.Rd:34: file link 'nearest' in package 'IRanges' does not exist and so has been treated as a topic
Rd warning: C:/Users/biocbuild/bbs-3.12-bioc/tmpdir/RtmpUdQCxg/R.INSTALL3760636d32c4/bumphunter/man/annotateNearest.Rd:59: file link 'nearest' in package 'IRanges' does not exist and so has been treated as a topic
    annotateTranscripts                     html  
Rd warning: C:/Users/biocbuild/bbs-3.12-bioc/tmpdir/RtmpUdQCxg/R.INSTALL3760636d32c4/bumphunter/man/annotateTranscripts.Rd:39: file link 'mapIds' in package 'AnnotationDbi' does not exist and so has been treated as a topic
    bumphunter                              html  
    clusterMaker                            html  
    dummyData                               html  
    getSegments                             html  
    locfitByCluster                         html  
    loessByCluster                          html  
    matchGenes                              html  
Rd warning: C:/Users/biocbuild/bbs-3.12-bioc/tmpdir/RtmpUdQCxg/R.INSTALL3760636d32c4/bumphunter/man/matchGenes.Rd:41: file link 'nearest' in package 'IRanges' does not exist and so has been treated as a topic
Rd warning: C:/Users/biocbuild/bbs-3.12-bioc/tmpdir/RtmpUdQCxg/R.INSTALL3760636d32c4/bumphunter/man/matchGenes.Rd:55: file link 'nearest' in package 'IRanges' does not exist and so has been treated as a topic
    regionFinder                            html  
    runmedByCluster                         html  
    smoother                                html  
** building package indices
** installing vignettes
** testing if installed package can be loaded from temporary location
** testing if installed package can be loaded from final location
** testing if installed package keeps a record of temporary installation path

install for x64

* installing *source* package 'bumphunter' ...
** testing if installed package can be loaded
* MD5 sums
packaged installation of 'bumphunter' as bumphunter_1.31.0.zip
* DONE (bumphunter)