Back to Multiple platform build/check report for BioC 3.12
A[B]CDEFGHIJKLMNOPQRSTUVWXYZ

BUILD BIN report for brendaDb on merida1

This page was generated on 2020-08-10 12:44:56 -0400 (Mon, 10 Aug 2020).

TO THE DEVELOPERS/MAINTAINERS OF THE brendaDb PACKAGE: Please make sure to use the following settings in order to reproduce any error or warning you see on this page.
Package 197/1882HostnameOS / ArchINSTALLBUILDCHECKBUILD BIN
brendaDb 1.3.0
Yi Zhou
Snapshot Date: 2020-08-09 14:51:29 -0400 (Sun, 09 Aug 2020)
URL: https://git.bioconductor.org/packages/brendaDb
Branch: master
Last Commit: b348776
Last Changed Date: 2020-04-27 15:29:29 -0400 (Mon, 27 Apr 2020)
malbec1 Linux (Ubuntu 18.04.4 LTS) / x86_64  OK  OK  OK UNNEEDED, same version exists in internal repository
nebbiolo1 Linux (Ubuntu 20.04.1 LTS) / x86_64  OK  OK  OK 
tokay1 Windows Server 2012 R2 Standard / x64  OK  OK  OK  OK UNNEEDED, same version exists in internal repository
merida1 macOS 10.14.6 Mojave / x86_64  OK  OK  OK [ OK ]UNNEEDED, same version exists in internal repository

Summary

Package: brendaDb
Version: 1.3.0
Command: rm -rf brendaDb.buildbin-libdir && mkdir brendaDb.buildbin-libdir && /Users/biocbuild/BBS/utils/build-universal.sh brendaDb_1.3.0.tar.gz /Library/Frameworks/R.framework/Versions/Current/Resources/bin/R brendaDb.buildbin-libdir
StartedAt: 2020-08-10 07:50:26 -0400 (Mon, 10 Aug 2020)
EndedAt: 2020-08-10 07:51:20 -0400 (Mon, 10 Aug 2020)
EllapsedTime: 53.4 seconds
RetCode: 0
Status:  OK 
PackageFile: brendaDb_1.3.0.tgz
PackageFileSize: 759.9 KiB

Command output

##############################################################################
##############################################################################
###
### Running command:
###
###   rm -rf brendaDb.buildbin-libdir && mkdir brendaDb.buildbin-libdir && /Users/biocbuild/BBS/utils/build-universal.sh brendaDb_1.3.0.tar.gz /Library/Frameworks/R.framework/Versions/Current/Resources/bin/R brendaDb.buildbin-libdir
###
##############################################################################
##############################################################################


>>>>>>> 
>>>>>>> INSTALLATION WITH 'R CMD INSTALL --preclean --no-multiarch --library=brendaDb.buildbin-libdir brendaDb_1.3.0.tar.gz'
>>>>>>> 

* installing *source* package ‘brendaDb’ ...
** using staged installation
** libs
clang++ -mmacosx-version-min=10.13 -std=gnu++11 -I"/Library/Frameworks/R.framework/Resources/include" -DNDEBUG  -I'/Library/Frameworks/R.framework/Versions/4.0/Resources/library/Rcpp/include' -I/usr/local/include   -fPIC  -Wall -g -O2  -c RcppExports.cpp -o RcppExports.o
clang++ -mmacosx-version-min=10.13 -std=gnu++11 -I"/Library/Frameworks/R.framework/Resources/include" -DNDEBUG  -I'/Library/Frameworks/R.framework/Versions/4.0/Resources/library/Rcpp/include' -I/usr/local/include   -fPIC  -Wall -g -O2  -c read_brenda.cpp -o read_brenda.o
clang++ -mmacosx-version-min=10.13 -std=gnu++11 -dynamiclib -Wl,-headerpad_max_install_names -undefined dynamic_lookup -single_module -multiply_defined suppress -L/Library/Frameworks/R.framework/Resources/lib -L/usr/local/lib -o brendaDb.so RcppExports.o read_brenda.o -F/Library/Frameworks/R.framework/.. -framework R -Wl,-framework -Wl,CoreFoundation
installing to /Users/biocbuild/bbs-3.12-bioc/meat/brendaDb.buildbin-libdir/00LOCK-brendaDb/00new/brendaDb/libs
** R
** data
** inst
** byte-compile and prepare package for lazy loading
** help
*** installing help indices
*** copying figures
** building package indices
** installing vignettes
** testing if installed package can be loaded from temporary location
** checking absolute paths in shared objects and dynamic libraries
** testing if installed package can be loaded from final location
** testing if installed package keeps a record of temporary installation path
* DONE (brendaDb)


>>>>>>> 
>>>>>>> FIXING LINKS FOR brendaDb.buildbin-libdir/brendaDb/libs/brendaDb.so
>>>>>>> 

install_name_tool -change "/usr/local/lib/libgcc_s.1.dylib" "/Library/Frameworks/R.framework/Versions/4.0/Resources/lib/libgcc_s.1.dylib" "brendaDb.buildbin-libdir/brendaDb/libs/brendaDb.so"
install_name_tool -change "/usr/local/lib/libgfortran.5.dylib" "/Library/Frameworks/R.framework/Versions/4.0/Resources/lib/libgfortran.5.dylib" "brendaDb.buildbin-libdir/brendaDb/libs/brendaDb.so"
install_name_tool -change "/usr/local/lib/libquadmath.0.dylib" "/Library/Frameworks/R.framework/Versions/4.0/Resources/lib/libquadmath.0.dylib" "brendaDb.buildbin-libdir/brendaDb/libs/brendaDb.so"