Back to Multiple platform build/check report for BioC 3.12
[A]BCDEFGHIJKLMNOPQRSTUVWXYZ

BUILD BIN report for Anaquin on merida1

This page was generated on 2020-08-09 12:35:04 -0400 (Sun, 09 Aug 2020).

TO THE DEVELOPERS/MAINTAINERS OF THE Anaquin PACKAGE: Please make sure to use the following settings in order to reproduce any error or warning you see on this page.
Package 51/1882HostnameOS / ArchINSTALLBUILDCHECKBUILD BIN
Anaquin 2.13.0
Ted Wong
Snapshot Date: 2020-08-08 14:51:01 -0400 (Sat, 08 Aug 2020)
URL: https://git.bioconductor.org/packages/Anaquin
Branch: master
Last Commit: aa8e5bd
Last Changed Date: 2020-04-27 15:01:01 -0400 (Mon, 27 Apr 2020)
malbec1 Linux (Ubuntu 18.04.4 LTS) / x86_64  OK  OK  OK UNNEEDED, same version exists in internal repository
nebbiolo1 Linux (Ubuntu 20.04.1 LTS) / x86_64  OK  OK  OK 
tokay1 Windows Server 2012 R2 Standard / x64  OK  OK  OK  OK UNNEEDED, same version exists in internal repository
merida1 macOS 10.14.6 Mojave / x86_64  OK  OK  OK [ OK ]UNNEEDED, same version exists in internal repository

Summary

Package: Anaquin
Version: 2.13.0
Command: rm -rf Anaquin.buildbin-libdir && mkdir Anaquin.buildbin-libdir && /Users/biocbuild/BBS/utils/build-universal.sh Anaquin_2.13.0.tar.gz /Library/Frameworks/R.framework/Versions/Current/Resources/bin/R Anaquin.buildbin-libdir
StartedAt: 2020-08-09 07:05:37 -0400 (Sun, 09 Aug 2020)
EndedAt: 2020-08-09 07:06:35 -0400 (Sun, 09 Aug 2020)
EllapsedTime: 58.0 seconds
RetCode: 0
Status:  OK 
PackageFile: Anaquin_2.13.0.tgz
PackageFileSize: 445.1 KiB

Command output

##############################################################################
##############################################################################
###
### Running command:
###
###   rm -rf Anaquin.buildbin-libdir && mkdir Anaquin.buildbin-libdir && /Users/biocbuild/BBS/utils/build-universal.sh Anaquin_2.13.0.tar.gz /Library/Frameworks/R.framework/Versions/Current/Resources/bin/R Anaquin.buildbin-libdir
###
##############################################################################
##############################################################################


>>>>>>> 
>>>>>>> INSTALLATION WITH 'R CMD INSTALL --preclean --no-multiarch --library=Anaquin.buildbin-libdir Anaquin_2.13.0.tar.gz'
>>>>>>> 

* installing *source* package ‘Anaquin’ ...
** using staged installation
** R
** data
*** moving datasets to lazyload DB
** inst
** byte-compile and prepare package for lazy loading
** help
*** installing help indices
** building package indices
** installing vignettes
** testing if installed package can be loaded from temporary location
** testing if installed package can be loaded from final location
** testing if installed package keeps a record of temporary installation path
* DONE (Anaquin)