Back to Multiple platform build/check report for BioC 3.12
A[B]CDEFGHIJKLMNOPQRSTUVWXYZ

BUILD report for BiocCheck on merida1

This page was generated on 2020-08-13 11:52:04 -0400 (Thu, 13 Aug 2020).

TO THE DEVELOPERS/MAINTAINERS OF THE BiocCheck PACKAGE: Please make sure to use the following settings in order to reproduce any error or warning you see on this page.
Package 149/1885HostnameOS / ArchINSTALLBUILDCHECKBUILD BIN
BiocCheck 1.25.4
Bioconductor Package Maintainer
Snapshot Date: 2020-08-12 14:52:00 -0400 (Wed, 12 Aug 2020)
URL: https://git.bioconductor.org/packages/BiocCheck
Branch: master
Last Commit: c0d2faa
Last Changed Date: 2020-06-26 12:04:17 -0400 (Fri, 26 Jun 2020)
malbec1 Linux (Ubuntu 18.04.4 LTS) / x86_64  OK  OK  OK UNNEEDED, same version exists in internal repository
nebbiolo1 Linux (Ubuntu 20.04.1 LTS) / x86_64  OK  OK  OK 
tokay1 Windows Server 2012 R2 Standard / x64  OK  OK  OK  OK UNNEEDED, same version exists in internal repository
merida1 macOS 10.14.6 Mojave / x86_64  OK [ OK ] OK  OK UNNEEDED, same version exists in internal repository

Summary

Package: BiocCheck
Version: 1.25.4
Command: /Library/Frameworks/R.framework/Versions/Current/Resources/bin/R CMD build --keep-empty-dirs --no-resave-data BiocCheck
StartedAt: 2020-08-12 19:07:47 -0400 (Wed, 12 Aug 2020)
EndedAt: 2020-08-12 19:08:02 -0400 (Wed, 12 Aug 2020)
EllapsedTime: 14.5 seconds
RetCode: 0
Status:  OK 
PackageFile: BiocCheck_1.25.4.tar.gz
PackageFileSize: 4.152 MiB

Command output

##############################################################################
##############################################################################
###
### Running command:
###
###   /Library/Frameworks/R.framework/Versions/Current/Resources/bin/R CMD build --keep-empty-dirs --no-resave-data BiocCheck
###
##############################################################################
##############################################################################


* checking for file ‘BiocCheck/DESCRIPTION’ ... OK
* preparing ‘BiocCheck’:
* checking DESCRIPTION meta-information ... OK
* installing the package to build vignettes
* creating vignettes ... OK
* checking for LF line-endings in source and make files and shell scripts
* checking for empty or unneeded directories
* building ‘BiocCheck_1.25.4.tar.gz’