Back to Multiple platform build/check report for BioC 3.12
AB[C]DEFGHIJKLMNOPQRSTUVWXYZ

BUILD report for cellbaseR on tokay1

This page was generated on 2021-02-22 12:37:17 -0500 (Mon, 22 Feb 2021).

To the developers/maintainers of the cellbaseR package:
Please make sure to use the following settings in order to reproduce any error or warning you see on this page.
Package 250/1974HostnameOS / ArchINSTALLBUILDCHECKBUILD BIN
cellbaseR 1.14.0
Mohammed OE Abdallah
Snapshot Date: 2021-02-21 14:52:07 -0500 (Sun, 21 Feb 2021)
URL: https://git.bioconductor.org/packages/cellbaseR
Branch: RELEASE_3_12
Last Commit: 6ecfb00
Last Changed Date: 2020-10-27 11:23:55 -0500 (Tue, 27 Oct 2020)
malbec1Linux (Ubuntu 18.04.5 LTS) / x86_64  OK    OK    OK  UNNEEDED, same version exists in internal repository
nebbiolo1Linux (Ubuntu 20.04.2 LTS) / x86_64  OK    OK    OK  
tokay1Windows Server 2012 R2 Standard / x64  OK    OK    WARNINGS    OK  UNNEEDED, same version exists in internal repository
merida1macOS 10.14.6 Mojave / x86_64  OK    OK    OK    OK  UNNEEDED, same version exists in internal repository

Summary

Package: cellbaseR
Version: 1.14.0
Command: chmod a+r cellbaseR -R && C:\Users\biocbuild\bbs-3.12-bioc\R\bin\R.exe CMD build --keep-empty-dirs --no-resave-data cellbaseR
StartedAt: 2021-02-21 20:02:14 -0500 (Sun, 21 Feb 2021)
EndedAt: 2021-02-21 20:04:53 -0500 (Sun, 21 Feb 2021)
EllapsedTime: 159.2 seconds
RetCode: 0
Status:   OK   
PackageFile: cellbaseR_1.14.0.tar.gz
PackageFileSize: 464.8 KiB

Command output

##############################################################################
##############################################################################
###
### Running command:
###
###   chmod a+r cellbaseR -R && C:\Users\biocbuild\bbs-3.12-bioc\R\bin\R.exe CMD build --keep-empty-dirs --no-resave-data cellbaseR
###
##############################################################################
##############################################################################


* checking for file 'cellbaseR/DESCRIPTION' ... OK
* preparing 'cellbaseR':
* checking DESCRIPTION meta-information ... OK
* installing the package to build vignettes
* creating vignettes ... OK
* checking for LF line-endings in source and make files and shell scripts
* checking for empty or unneeded directories
* building 'cellbaseR_1.14.0.tar.gz'