Back to Multiple platform build/check report for BioC 3.12
[A]BCDEFGHIJKLMNOPQRSTUVWXYZ

CHECK report for AnnotationFilter on tokay1

This page was generated on 2020-08-07 12:11:39 -0400 (Fri, 07 Aug 2020).

TO THE DEVELOPERS/MAINTAINERS OF THE AnnotationFilter PACKAGE: Please make sure to use the following settings in order to reproduce any error or warning you see on this page.
Package 59/1882HostnameOS / ArchINSTALLBUILDCHECKBUILD BIN
AnnotationFilter 1.13.0
Bioconductor Package Maintainer
Snapshot Date: 2020-08-06 14:50:46 -0400 (Thu, 06 Aug 2020)
URL: https://git.bioconductor.org/packages/AnnotationFilter
Branch: master
Last Commit: dd53a9e
Last Changed Date: 2020-04-27 15:06:41 -0400 (Mon, 27 Apr 2020)
malbec1 Linux (Ubuntu 18.04.4 LTS) / x86_64  OK  OK  OK UNNEEDED, same version exists in internal repository
tokay1 Windows Server 2012 R2 Standard / x64  OK  OK [ OK ] OK UNNEEDED, same version exists in internal repository
merida1 macOS 10.14.6 Mojave / x86_64  OK  OK  OK  OK UNNEEDED, same version exists in internal repository

Summary

Package: AnnotationFilter
Version: 1.13.0
Command: C:\Users\biocbuild\bbs-3.12-bioc\R\bin\R.exe CMD check --force-multiarch --install=check:AnnotationFilter.install-out.txt --library=C:\Users\biocbuild\bbs-3.12-bioc\R\library --no-vignettes --timings AnnotationFilter_1.13.0.tar.gz
StartedAt: 2020-08-07 03:49:20 -0400 (Fri, 07 Aug 2020)
EndedAt: 2020-08-07 03:51:17 -0400 (Fri, 07 Aug 2020)
EllapsedTime: 116.9 seconds
RetCode: 0
Status:  OK  
CheckDir: AnnotationFilter.Rcheck
Warnings: 0

Command output

##############################################################################
##############################################################################
###
### Running command:
###
###   C:\Users\biocbuild\bbs-3.12-bioc\R\bin\R.exe CMD check --force-multiarch --install=check:AnnotationFilter.install-out.txt --library=C:\Users\biocbuild\bbs-3.12-bioc\R\library --no-vignettes --timings AnnotationFilter_1.13.0.tar.gz
###
##############################################################################
##############################################################################


* using log directory 'C:/Users/biocbuild/bbs-3.12-bioc/meat/AnnotationFilter.Rcheck'
* using R version 4.0.2 (2020-06-22)
* using platform: x86_64-w64-mingw32 (64-bit)
* using session charset: ISO8859-1
* using option '--no-vignettes'
* checking for file 'AnnotationFilter/DESCRIPTION' ... OK
* this is package 'AnnotationFilter' version '1.13.0'
* package encoding: UTF-8
* checking package namespace information ... OK
* checking package dependencies ... OK
* checking if this is a source package ... OK
* checking if there is a namespace ... OK
* checking for hidden files and directories ... OK
* checking for portable file names ... OK
* checking whether package 'AnnotationFilter' can be installed ... OK
* checking installed package size ... OK
* checking package directory ... OK
* checking 'build' directory ... OK
* checking DESCRIPTION meta-information ... OK
* checking top-level files ... OK
* checking for left-over files ... OK
* checking index information ... OK
* checking package subdirectories ... OK
* checking R files for non-ASCII characters ... OK
* checking R files for syntax errors ... OK
* loading checks for arch 'i386'
** checking whether the package can be loaded ... OK
** checking whether the package can be loaded with stated dependencies ... OK
** checking whether the package can be unloaded cleanly ... OK
** checking whether the namespace can be loaded with stated dependencies ... OK
** checking whether the namespace can be unloaded cleanly ... OK
* loading checks for arch 'x64'
** checking whether the package can be loaded ... OK
** checking whether the package can be loaded with stated dependencies ... OK
** checking whether the package can be unloaded cleanly ... OK
** checking whether the namespace can be loaded with stated dependencies ... OK
** checking whether the namespace can be unloaded cleanly ... OK
* checking dependencies in R code ... OK
* checking S3 generic/method consistency ... OK
* checking replacement functions ... OK
* checking foreign function calls ... OK
* checking R code for possible problems ... OK
* checking Rd files ... OK
* checking Rd metadata ... OK
* checking Rd cross-references ... OK
* checking for missing documentation entries ... OK
* checking for code/documentation mismatches ... OK
* checking Rd \usage sections ... OK
* checking Rd contents ... OK
* checking for unstated dependencies in examples ... OK
* checking files in 'vignettes' ... OK
* checking examples ...
** running examples for arch 'i386' ... OK
** running examples for arch 'x64' ... OK
* checking for unstated dependencies in 'tests' ... OK
* checking tests ...
** running tests for arch 'i386' ...
  Running 'testthat.R'
 OK
** running tests for arch 'x64' ...
  Running 'testthat.R'
 OK
* checking for unstated dependencies in vignettes ... OK
* checking package vignettes in 'inst/doc' ... OK
* checking running R code from vignettes ... SKIPPED
* checking re-building of vignette outputs ... SKIPPED
* checking PDF version of manual ... OK
* DONE

Status: OK


Installation output

AnnotationFilter.Rcheck/00install.out

##############################################################################
##############################################################################
###
### Running command:
###
###   C:\cygwin\bin\curl.exe -O https://malbec1.bioconductor.org/BBS/3.12/bioc/src/contrib/AnnotationFilter_1.13.0.tar.gz && rm -rf AnnotationFilter.buildbin-libdir && mkdir AnnotationFilter.buildbin-libdir && C:\Users\biocbuild\bbs-3.12-bioc\R\bin\R.exe CMD INSTALL --merge-multiarch --build --library=AnnotationFilter.buildbin-libdir AnnotationFilter_1.13.0.tar.gz && C:\Users\biocbuild\bbs-3.12-bioc\R\bin\R.exe CMD INSTALL AnnotationFilter_1.13.0.zip && rm AnnotationFilter_1.13.0.tar.gz AnnotationFilter_1.13.0.zip
###
##############################################################################
##############################################################################


  % Total    % Received % Xferd  Average Speed   Time    Time     Time  Current
                                 Dload  Upload   Total   Spent    Left  Speed

  0     0    0     0    0     0      0      0 --:--:-- --:--:-- --:--:--     0
100 21230  100 21230    0     0   136k      0 --:--:-- --:--:-- --:--:--  141k

install for i386

* installing *source* package 'AnnotationFilter' ...
** using staged installation
** R
** byte-compile and prepare package for lazy loading
** help
*** installing help indices
  converting help for package 'AnnotationFilter'
    finding HTML links ... done
    AnnotationFilter                        html  
    AnnotationFilterList                    html  
    GenenameFilter                          html  
** building package indices
** installing vignettes
** testing if installed package can be loaded from temporary location
** testing if installed package can be loaded from final location
** testing if installed package keeps a record of temporary installation path

install for x64

* installing *source* package 'AnnotationFilter' ...
** testing if installed package can be loaded
* MD5 sums
packaged installation of 'AnnotationFilter' as AnnotationFilter_1.13.0.zip
* DONE (AnnotationFilter)
* installing to library 'C:/Users/biocbuild/bbs-3.12-bioc/R/library'
package 'AnnotationFilter' successfully unpacked and MD5 sums checked

Tests output

AnnotationFilter.Rcheck/tests_i386/testthat.Rout


R version 4.0.2 (2020-06-22) -- "Taking Off Again"
Copyright (C) 2020 The R Foundation for Statistical Computing
Platform: i386-w64-mingw32/i386 (32-bit)

R is free software and comes with ABSOLUTELY NO WARRANTY.
You are welcome to redistribute it under certain conditions.
Type 'license()' or 'licence()' for distribution details.

R is a collaborative project with many contributors.
Type 'contributors()' for more information and
'citation()' on how to cite R or R packages in publications.

Type 'demo()' for some demos, 'help()' for on-line help, or
'help.start()' for an HTML browser interface to help.
Type 'q()' to quit R.

> library(testthat)
> library(AnnotationFilter)

Attaching package: 'AnnotationFilter'

The following object is masked from 'package:testthat':

    not

> 
> test_check("AnnotationFilter")
== testthat results  ===========================================================
[ OK: 101 | SKIPPED: 0 | WARNINGS: 4 | FAILED: 0 ]
> 
> proc.time()
   user  system elapsed 
   4.10    0.28    4.37 

AnnotationFilter.Rcheck/tests_x64/testthat.Rout


R version 4.0.2 (2020-06-22) -- "Taking Off Again"
Copyright (C) 2020 The R Foundation for Statistical Computing
Platform: x86_64-w64-mingw32/x64 (64-bit)

R is free software and comes with ABSOLUTELY NO WARRANTY.
You are welcome to redistribute it under certain conditions.
Type 'license()' or 'licence()' for distribution details.

R is a collaborative project with many contributors.
Type 'contributors()' for more information and
'citation()' on how to cite R or R packages in publications.

Type 'demo()' for some demos, 'help()' for on-line help, or
'help.start()' for an HTML browser interface to help.
Type 'q()' to quit R.

> library(testthat)
> library(AnnotationFilter)

Attaching package: 'AnnotationFilter'

The following object is masked from 'package:testthat':

    not

> 
> test_check("AnnotationFilter")
== testthat results  ===========================================================
[ OK: 101 | SKIPPED: 0 | WARNINGS: 4 | FAILED: 0 ]
> 
> proc.time()
   user  system elapsed 
   6.53    0.26    6.79 

Example timings

AnnotationFilter.Rcheck/examples_i386/AnnotationFilter-Ex.timings

nameusersystemelapsed
AnnotationFilter0.260.060.33
AnnotationFilterList0.030.000.03

AnnotationFilter.Rcheck/examples_x64/AnnotationFilter-Ex.timings

nameusersystemelapsed
AnnotationFilter0.290.010.30
AnnotationFilterList0.020.020.03