Back to Multiple platform build/check report for BioC 3.12
[A]BCDEFGHIJKLMNOPQRSTUVWXYZ

BUILD report for AnnotationHubData on malbec1

This page was generated on 2020-08-09 11:24:42 -0400 (Sun, 09 Aug 2020).

TO THE DEVELOPERS/MAINTAINERS OF THE AnnotationHubData PACKAGE: Please make sure to use the following settings in order to reproduce any error or warning you see on this page.
Package 63/1882HostnameOS / ArchINSTALLBUILDCHECKBUILD BIN
AnnotationHubData 1.19.3
Bioconductor Package Maintainer
Snapshot Date: 2020-08-08 14:51:01 -0400 (Sat, 08 Aug 2020)
URL: https://git.bioconductor.org/packages/AnnotationHubData
Branch: master
Last Commit: 3171efd
Last Changed Date: 2020-08-03 10:35:56 -0400 (Mon, 03 Aug 2020)
malbec1 Linux (Ubuntu 18.04.4 LTS) / x86_64  OK [ OK ] WARNINGS UNNEEDED, same version exists in internal repository
nebbiolo1 Linux (Ubuntu 20.04.1 LTS) / x86_64  OK  OK  ERROR 
tokay1 Windows Server 2012 R2 Standard / x64  OK  OK  WARNINGS  OK UNNEEDED, same version exists in internal repository
merida1 macOS 10.14.6 Mojave / x86_64  OK  OK  WARNINGS  OK UNNEEDED, same version exists in internal repository

Summary

Package: AnnotationHubData
Version: 1.19.3
Command: /home/biocbuild/bbs-3.12-bioc/R/bin/R CMD build --keep-empty-dirs --no-resave-data AnnotationHubData
StartedAt: 2020-08-08 19:31:47 -0400 (Sat, 08 Aug 2020)
EndedAt: 2020-08-08 19:32:46 -0400 (Sat, 08 Aug 2020)
EllapsedTime: 58.5 seconds
RetCode: 0
Status:  OK 
PackageFile: AnnotationHubData_1.19.3.tar.gz
PackageFileSize: 632.8 KiB

Command output

##############################################################################
##############################################################################
###
### Running command:
###
###   /home/biocbuild/bbs-3.12-bioc/R/bin/R CMD build --keep-empty-dirs --no-resave-data AnnotationHubData
###
##############################################################################
##############################################################################


* checking for file ‘AnnotationHubData/DESCRIPTION’ ... OK
* preparing ‘AnnotationHubData’:
* checking DESCRIPTION meta-information ... OK
* installing the package to build vignettes
* creating vignettes ... OK
* checking for LF line-endings in source and make files and shell scripts
* checking for empty or unneeded directories
* building ‘AnnotationHubData_1.19.3.tar.gz’