Back to Multiple platform build/check report for BioC 3.12
[A]BCDEFGHIJKLMNOPQRSTUVWXYZ

BUILD BIN report for annotationTools on tokay1

This page was generated on 2020-10-30 12:10:50 -0400 (Fri, 30 Oct 2020).

TO THE DEVELOPERS/MAINTAINERS OF THE annotationTools PACKAGE: Please make sure to use the following settings in order to reproduce any error or warning you see on this page.
Package 68/1974HostnameOS / ArchINSTALLBUILDCHECKBUILD BIN
annotationTools 1.64.0
Alexandre Kuhn
Snapshot Date: 2020-10-29 14:45:49 -0400 (Thu, 29 Oct 2020)
URL: https://git.bioconductor.org/packages/annotationTools
Branch: RELEASE_3_12
Last Commit: 8b4f650
Last Changed Date: 2020-10-27 10:30:36 -0400 (Tue, 27 Oct 2020)
malbec1 Linux (Ubuntu 18.04.4 LTS) / x86_64  OK  OK  OK UNNEEDED, same version exists in internal repository
nebbiolo1 Linux (Ubuntu 20.04.1 LTS) / x86_64  OK  OK  OK 
tokay1 Windows Server 2012 R2 Standard / x64  OK  OK  OK [ OK ]UNNEEDED, same version exists in internal repository
merida1 macOS 10.14.6 Mojave / x86_64  OK  OK  OK  OK UNNEEDED, same version exists in internal repository

Summary

Package: annotationTools
Version: 1.64.0
Command: rm -rf annotationTools.buildbin-libdir && mkdir annotationTools.buildbin-libdir && C:\Users\biocbuild\bbs-3.12-bioc\R\bin\R.exe CMD INSTALL --merge-multiarch --build --library=annotationTools.buildbin-libdir annotationTools_1.64.0.tar.gz
StartedAt: 2020-10-30 09:59:29 -0400 (Fri, 30 Oct 2020)
EndedAt: 2020-10-30 10:00:10 -0400 (Fri, 30 Oct 2020)
EllapsedTime: 40.9 seconds
RetCode: 0
Status:  OK  
PackageFile: annotationTools_1.64.0.zip
PackageFileSize: 420.5 KiB

Command output

##############################################################################
##############################################################################
###
### Running command:
###
###   rm -rf annotationTools.buildbin-libdir && mkdir annotationTools.buildbin-libdir && C:\Users\biocbuild\bbs-3.12-bioc\R\bin\R.exe CMD INSTALL --merge-multiarch --build --library=annotationTools.buildbin-libdir annotationTools_1.64.0.tar.gz
###
##############################################################################
##############################################################################



install for i386

* installing *source* package 'annotationTools' ...
** using staged installation
** R
** data
** inst
** byte-compile and prepare package for lazy loading
** help
*** installing help indices
  converting help for package 'annotationTools'
    finding HTML links ... done
    HG-U133_Plus_2_annot_part               html  
    HG-U133_Plus_2_ortholog_part            html  
    Mouse430_2_annot_part                   html  
    annot_HGU133A                           html  
    compactList                             html  
    gene_orthologs_part                     html  
    getANNOTATION                           html  
    getGENEID                               html  
    getGENEONTOLOGY                         html  
    getGENESYMBOL                           html  
    getGENETITLE                            html  
    getHOMOLOG                              html  
    getMULTIANNOTATION                      html  
    getOrthologousProbesets                 html  
    getPROBESET                             html  
    homologene_part                         html  
    listToCharacterVector                   html  
    ortho                                   html  
    ps2ps                                   html  
    table_human                             html  
    table_mouse                             html  
** building package indices
** installing vignettes
** testing if installed package can be loaded from temporary location
** testing if installed package can be loaded from final location
** testing if installed package keeps a record of temporary installation path

install for x64

* installing *source* package 'annotationTools' ...
** testing if installed package can be loaded
* MD5 sums
packaged installation of 'annotationTools' as annotationTools_1.64.0.zip
* DONE (annotationTools)