Back to Multiple platform build/check report for BioC 3.12
[A]BCDEFGHIJKLMNOPQRSTUVWXYZ

CHECK report for affyContam on merida1

This page was generated on 2020-08-11 11:52:39 -0400 (Tue, 11 Aug 2020).

TO THE DEVELOPERS/MAINTAINERS OF THE affyContam PACKAGE: Please make sure to use the following settings in order to reproduce any error or warning you see on this page.
Package 26/1885HostnameOS / ArchINSTALLBUILDCHECKBUILD BIN
affyContam 1.47.0
V. Carey
Snapshot Date: 2020-08-10 14:50:56 -0400 (Mon, 10 Aug 2020)
URL: https://git.bioconductor.org/packages/affyContam
Branch: master
Last Commit: 24a5fca
Last Changed Date: 2020-04-27 14:18:21 -0400 (Mon, 27 Apr 2020)
malbec1 Linux (Ubuntu 18.04.4 LTS) / x86_64  OK  OK  OK UNNEEDED, same version exists in internal repository
nebbiolo1 Linux (Ubuntu 20.04.1 LTS) / x86_64  OK  OK  NA 
tokay1 Windows Server 2012 R2 Standard / x64  OK  OK  OK  OK UNNEEDED, same version exists in internal repository
merida1 macOS 10.14.6 Mojave / x86_64  OK  OK [ OK ] OK UNNEEDED, same version exists in internal repository

Summary

Package: affyContam
Version: 1.47.0
Command: /Library/Frameworks/R.framework/Versions/Current/Resources/bin/R CMD check --install=check:affyContam.install-out.txt --library=/Library/Frameworks/R.framework/Versions/Current/Resources/library --no-vignettes --timings affyContam_1.47.0.tar.gz
StartedAt: 2020-08-10 23:13:43 -0400 (Mon, 10 Aug 2020)
EndedAt: 2020-08-10 23:14:49 -0400 (Mon, 10 Aug 2020)
EllapsedTime: 65.7 seconds
RetCode: 0
Status:  OK 
CheckDir: affyContam.Rcheck
Warnings: 0

Command output

##############################################################################
##############################################################################
###
### Running command:
###
###   /Library/Frameworks/R.framework/Versions/Current/Resources/bin/R CMD check --install=check:affyContam.install-out.txt --library=/Library/Frameworks/R.framework/Versions/Current/Resources/library --no-vignettes --timings affyContam_1.47.0.tar.gz
###
##############################################################################
##############################################################################


* using log directory ‘/Users/biocbuild/bbs-3.12-bioc/meat/affyContam.Rcheck’
* using R version 4.0.2 (2020-06-22)
* using platform: x86_64-apple-darwin17.0 (64-bit)
* using session charset: UTF-8
* using option ‘--no-vignettes’
* checking for file ‘affyContam/DESCRIPTION’ ... OK
* this is package ‘affyContam’ version ‘1.47.0’
* checking package namespace information ... OK
* checking package dependencies ... OK
* checking if this is a source package ... OK
* checking if there is a namespace ... OK
* checking for hidden files and directories ... OK
* checking for portable file names ... OK
* checking for sufficient/correct file permissions ... OK
* checking whether package ‘affyContam’ can be installed ... OK
* checking installed package size ... OK
* checking package directory ... OK
* checking ‘build’ directory ... OK
* checking DESCRIPTION meta-information ... NOTE
Malformed Description field: should contain one or more complete sentences.
* checking top-level files ... OK
* checking for left-over files ... OK
* checking index information ... OK
* checking package subdirectories ... OK
* checking R files for non-ASCII characters ... OK
* checking R files for syntax errors ... OK
* checking whether the package can be loaded ... OK
* checking whether the package can be loaded with stated dependencies ... OK
* checking whether the package can be unloaded cleanly ... OK
* checking whether the namespace can be loaded with stated dependencies ... OK
* checking whether the namespace can be unloaded cleanly ... OK
* checking dependencies in R code ... NOTE
Packages in Depends field not imported from:
  ‘Biobase’ ‘affy’ ‘affydata’
  These packages need to be imported from (in the NAMESPACE file)
  for when this namespace is loaded but not attached.
* checking S3 generic/method consistency ... OK
* checking replacement functions ... OK
* checking foreign function calls ... OK
* checking R code for possible problems ... NOTE
getCircRegion: no visible global function definition for ‘annotation’
getCircRegion : <anonymous>: no visible global function definition for
  ‘xy2indices’
getCircRegion: no visible global function definition for ‘exprs’
getRectRegion: no visible global function definition for ‘annotation’
getRectRegion : <anonymous>: no visible global function definition for
  ‘xy2indices’
getRectRegion: no visible global function definition for ‘exprs’
setCircRegion: no visible global function definition for ‘annotation’
setCircRegion : <anonymous>: no visible global function definition for
  ‘xy2indices’
setCircRegion: no visible global function definition for ‘exprs’
setCircRegion: no visible global function definition for ‘exprs<-’
setRectRegion: no visible global function definition for ‘annotation’
setRectRegion : <anonymous>: no visible global function definition for
  ‘xy2indices’
setRectRegion: no visible global function definition for ‘exprs’
setRectRegion: no visible global function definition for ‘exprs<-’
Undefined global functions or variables:
  annotation exprs exprs<- xy2indices
* checking Rd files ... OK
* checking Rd metadata ... OK
* checking Rd cross-references ... OK
* checking for missing documentation entries ... OK
* checking for code/documentation mismatches ... OK
* checking Rd \usage sections ... OK
* checking Rd contents ... OK
* checking for unstated dependencies in examples ... OK
* checking sizes of PDF files under ‘inst/doc’ ... OK
* checking files in ‘vignettes’ ... OK
* checking examples ... OK
Examples with CPU (user + system) or elapsed time > 5s
                user system elapsed
setRectRegion 22.046   0.73  22.845
* checking for unstated dependencies in vignettes ... OK
* checking package vignettes in ‘inst/doc’ ... OK
* checking running R code from vignettes ... SKIPPED
* checking re-building of vignette outputs ... SKIPPED
* checking PDF version of manual ... OK
* DONE

Status: 3 NOTEs
See
  ‘/Users/biocbuild/bbs-3.12-bioc/meat/affyContam.Rcheck/00check.log’
for details.



Installation output

affyContam.Rcheck/00install.out

##############################################################################
##############################################################################
###
### Running command:
###
###   /Library/Frameworks/R.framework/Versions/Current/Resources/bin/R CMD INSTALL affyContam
###
##############################################################################
##############################################################################


* installing to library ‘/Library/Frameworks/R.framework/Versions/4.0/Resources/library’
* installing *source* package ‘affyContam’ ...
** using staged installation
** R
** byte-compile and prepare package for lazy loading
     Package   
[1,] "affydata"
     LibPath                                                         
[1,] "/Library/Frameworks/R.framework/Versions/4.0/Resources/library"
     Item       Title                        
[1,] "Dilution" "AffyBatch instance Dilution"
** help
*** installing help indices
** building package indices
** installing vignettes
** testing if installed package can be loaded from temporary location
     Package   
[1,] "affydata"
     LibPath                                                         
[1,] "/Library/Frameworks/R.framework/Versions/4.0/Resources/library"
     Item       Title                        
[1,] "Dilution" "AffyBatch instance Dilution"
** testing if installed package can be loaded from final location
     Package   
[1,] "affydata"
     LibPath                                                         
[1,] "/Library/Frameworks/R.framework/Versions/4.0/Resources/library"
     Item       Title                        
[1,] "Dilution" "AffyBatch instance Dilution"
** testing if installed package keeps a record of temporary installation path
* DONE (affyContam)

Tests output


Example timings

affyContam.Rcheck/affyContam-Ex.timings

nameusersystemelapsed
setRectRegion22.046 0.73022.845