Back to Multiple platform build/check report for BioC 3.12
ABCDEFGHIJKLMNO[P]QRSTUVWXYZ

Multiple platform build/check report for BioC 3.12

Results for proFIA

This page was generated on 2021-01-19 11:51:16 -0500 (Tue, 19 Jan 2021).

Package 1392/1974HostnameOS / ArchINSTALLBUILDCHECKBUILD BIN
proFIA 1.16.0
Alexis Delabriere
Snapshot Date: 2021-01-18 14:42:24 -0500 (Mon, 18 Jan 2021)
URL: https://git.bioconductor.org/packages/proFIA
Branch: RELEASE_3_12
Last Commit: 18a3bec
Last Changed Date: 2020-10-27 11:19:13 -0500 (Tue, 27 Oct 2020)
malbec1 Linux (Ubuntu 18.04.5 LTS) / x86_64  OK  ERROR  skipped 
nebbiolo1 Linux (Ubuntu 20.04.1 LTS) / x86_64  OK  ERROR  skipped 
tokay1 Windows Server 2012 R2 Standard / x64  OK  ERROR  skipped  skipped 
merida1 macOS 10.14.6 Mojave / x86_64  OK  ERROR  skipped  skipped