Back to Multiple platform build/check report for BioC 3.12
ABCDEF[G]HIJKLMNOPQRSTUVWXYZ

BUILD report for GraphPAC on tokay1

This page was generated on 2021-04-14 12:11:10 -0400 (Wed, 14 Apr 2021).

To the developers/maintainers of the GraphPAC package:
Please make sure to use the following settings in order to reproduce any error or warning you see on this page.
Package 784/1974HostnameOS / ArchINSTALLBUILDCHECKBUILD BIN
GraphPAC 1.32.0  (landing page)
Gregory Ryslik
Snapshot Date: 2021-04-13 14:50:13 -0400 (Tue, 13 Apr 2021)
URL: https://git.bioconductor.org/packages/GraphPAC
Branch: RELEASE_3_12
Last Commit: 8f7bfe2
Last Changed Date: 2020-10-27 10:48:33 -0400 (Tue, 27 Oct 2020)
malbec1Linux (Ubuntu 18.04.5 LTS) / x86_64  OK    OK    OK  UNNEEDED, same version exists in internal repository
tokay1Windows Server 2012 R2 Standard / x64  OK    OK    OK    OK  UNNEEDED, same version exists in internal repository
merida1macOS 10.14.6 Mojave / x86_64  OK    OK    OK    OK  UNNEEDED, same version exists in internal repository

Summary

Package: GraphPAC
Version: 1.32.0
Command: chmod a+r GraphPAC -R && C:\Users\biocbuild\bbs-3.12-bioc\R\bin\R.exe CMD build --keep-empty-dirs --no-resave-data GraphPAC
StartedAt: 2021-04-13 21:18:51 -0400 (Tue, 13 Apr 2021)
EndedAt: 2021-04-13 21:20:21 -0400 (Tue, 13 Apr 2021)
EllapsedTime: 90.1 seconds
RetCode: 0
Status:   OK   
PackageFile: GraphPAC_1.32.0.tar.gz
PackageFileSize: 596 KiB

Command output

##############################################################################
##############################################################################
###
### Running command:
###
###   chmod a+r GraphPAC -R && C:\Users\biocbuild\bbs-3.12-bioc\R\bin\R.exe CMD build --keep-empty-dirs --no-resave-data GraphPAC
###
##############################################################################
##############################################################################


* checking for file 'GraphPAC/DESCRIPTION' ... OK
* preparing 'GraphPAC':
* checking DESCRIPTION meta-information ... OK
* installing the package to build vignettes
* creating vignettes ... OK
* checking for LF line-endings in source and make files and shell scripts
* checking for empty or unneeded directories
* building 'GraphPAC_1.32.0.tar.gz'