Back to Multiple platform build/check report for BioC 3.12
A[B]CDEFGHIJKLMNOPQRSTUVWXYZ

INSTALL report for BRGenomics on malbec1

This page was generated on 2020-08-13 11:22:33 -0400 (Thu, 13 Aug 2020).

TO THE DEVELOPERS/MAINTAINERS OF THE BRGenomics PACKAGE: Please make sure to use the following settings in order to reproduce any error or warning you see on this page.
Package 198/1885HostnameOS / ArchINSTALLBUILDCHECKBUILD BIN
BRGenomics 1.1.2
Mike DeBerardine
Snapshot Date: 2020-08-12 14:52:00 -0400 (Wed, 12 Aug 2020)
URL: https://git.bioconductor.org/packages/BRGenomics
Branch: master
Last Commit: 932ee49
Last Changed Date: 2020-05-15 19:52:35 -0400 (Fri, 15 May 2020)
malbec1 Linux (Ubuntu 18.04.4 LTS) / x86_64 [ OK ] OK  OK UNNEEDED, same version exists in internal repository
nebbiolo1 Linux (Ubuntu 20.04.1 LTS) / x86_64  OK  OK  OK 
tokay1 Windows Server 2012 R2 Standard / x64  OK  OK  OK  OK UNNEEDED, same version exists in internal repository
merida1 macOS 10.14.6 Mojave / x86_64  OK  OK  OK  OK UNNEEDED, same version exists in internal repository

Summary

Package: BRGenomics
Version: 1.1.2
Command: /home/biocbuild/bbs-3.12-bioc/R/bin/R CMD INSTALL BRGenomics
StartedAt: 2020-08-12 16:50:53 -0400 (Wed, 12 Aug 2020)
EndedAt: 2020-08-12 16:51:30 -0400 (Wed, 12 Aug 2020)
EllapsedTime: 36.4 seconds
RetCode: 0
Status:  OK 

Command output

##############################################################################
##############################################################################
###
### Running command:
###
###   /home/biocbuild/bbs-3.12-bioc/R/bin/R CMD INSTALL BRGenomics
###
##############################################################################
##############################################################################


* installing to library ‘/home/biocbuild/bbs-3.12-bioc/R/library’
* installing *source* package ‘BRGenomics’ ...
** using staged installation
** R
** data
** inst
** byte-compile and prepare package for lazy loading
** help
*** installing help indices
** building package indices
** installing vignettes
** testing if installed package can be loaded from temporary location
** testing if installed package can be loaded from final location
** testing if installed package keeps a record of temporary installation path
* DONE (BRGenomics)