Back to Multiple platform build/check report for BioC 3.12
[A]BCDEFGHIJKLMNOPQRSTUVWXYZ

BUILD report for alpine on merida1

This page was generated on 2020-10-14 11:23:48 -0400 (Wed, 14 Oct 2020).

TO THE DEVELOPERS/MAINTAINERS OF THE alpine PACKAGE: Please make sure to use the following settings in order to reproduce any error or warning you see on this page.
Package 45/1930HostnameOS / ArchINSTALLBUILDCHECKBUILD BIN
alpine 1.15.0
Michael Love
Snapshot Date: 2020-10-13 14:40:34 -0400 (Tue, 13 Oct 2020)
URL: https://git.bioconductor.org/packages/alpine
Branch: master
Last Commit: ba310e3
Last Changed Date: 2020-04-27 15:00:57 -0400 (Mon, 27 Apr 2020)
malbec1 Linux (Ubuntu 18.04.4 LTS) / x86_64  OK  OK  OK UNNEEDED, same version exists in internal repository
nebbiolo1 Linux (Ubuntu 20.04.1 LTS) / x86_64  OK  ERROR  skipped 
tokay1 Windows Server 2012 R2 Standard / x64  OK  OK  OK  NA 
riesling1 Windows Server 2019 Standard / x64  OK  OK  OK  OK 
merida1 macOS 10.14.6 Mojave / x86_64  OK [ OK ] OK  NA 

Summary

Package: alpine
Version: 1.15.0
Command: /Library/Frameworks/R.framework/Versions/Current/Resources/bin/R CMD build --keep-empty-dirs --no-resave-data alpine
StartedAt: 2020-10-13 20:39:43 -0400 (Tue, 13 Oct 2020)
EndedAt: 2020-10-13 20:45:12 -0400 (Tue, 13 Oct 2020)
EllapsedTime: 328.3 seconds
RetCode: 0
Status:  OK 
PackageFile: alpine_1.15.0.tar.gz
PackageFileSize: 251.5 KiB

Command output

##############################################################################
##############################################################################
###
### Running command:
###
###   /Library/Frameworks/R.framework/Versions/Current/Resources/bin/R CMD build --keep-empty-dirs --no-resave-data alpine
###
##############################################################################
##############################################################################


* checking for file ‘alpine/DESCRIPTION’ ... OK
* preparing ‘alpine’:
* checking DESCRIPTION meta-information ... OK
* installing the package to build vignettes
* creating vignettes ... OK
* checking for LF line-endings in source and make files and shell scripts
* checking for empty or unneeded directories
* looking to see if a ‘data/datalist’ file should be added
* building ‘alpine_1.15.0.tar.gz’