Back to Multiple platform build/check report for BioC 3.12
ABCDEFGHIJKL[M]NOPQRSTUVWXYZ

BUILD report for MethCP on tokay1

This page was generated on 2021-04-17 12:09:05 -0400 (Sat, 17 Apr 2021).

To the developers/maintainers of the MethCP package:
Please make sure to use the following settings in order to reproduce any error or warning you see on this page.
Package 1064/1974HostnameOS / ArchINSTALLBUILDCHECKBUILD BIN
MethCP 1.4.0  (landing page)
Boying Gong
Snapshot Date: 2021-04-16 14:50:12 -0400 (Fri, 16 Apr 2021)
URL: https://git.bioconductor.org/packages/MethCP
Branch: RELEASE_3_12
Last Commit: 06c4008
Last Changed Date: 2020-10-27 11:50:49 -0400 (Tue, 27 Oct 2020)
malbec1Linux (Ubuntu 18.04.5 LTS) / x86_64  OK    OK    OK  UNNEEDED, same version exists in internal repository
tokay1Windows Server 2012 R2 Standard / x64  OK    OK    OK    OK  UNNEEDED, same version exists in internal repository
merida1macOS 10.14.6 Mojave / x86_64  OK    OK    OK    OK  UNNEEDED, same version exists in internal repository

Summary

Package: MethCP
Version: 1.4.0
Command: chmod a+r MethCP -R && C:\Users\biocbuild\bbs-3.12-bioc\R\bin\R.exe CMD build --keep-empty-dirs --no-resave-data MethCP
StartedAt: 2021-04-16 21:35:41 -0400 (Fri, 16 Apr 2021)
EndedAt: 2021-04-16 21:44:54 -0400 (Fri, 16 Apr 2021)
EllapsedTime: 553.1 seconds
RetCode: 0
Status:   OK   
PackageFile: MethCP_1.4.0.tar.gz
PackageFileSize: 4.385 MiB

Command output

##############################################################################
##############################################################################
###
### Running command:
###
###   chmod a+r MethCP -R && C:\Users\biocbuild\bbs-3.12-bioc\R\bin\R.exe CMD build --keep-empty-dirs --no-resave-data MethCP
###
##############################################################################
##############################################################################


* checking for file 'MethCP/DESCRIPTION' ... OK
* preparing 'MethCP':
* checking DESCRIPTION meta-information ... OK
* installing the package to build vignettes
* creating vignettes ... OK
* checking for LF line-endings in source and make files and shell scripts
* checking for empty or unneeded directories
* building 'MethCP_1.4.0.tar.gz'