Back to Multiple platform build/check report for BioC 3.12
A[B]CDEFGHIJKLMNOPQRSTUVWXYZ

INSTALL report for biscuiteer on merida1

This page was generated on 2020-08-13 12:00:09 -0400 (Thu, 13 Aug 2020).

TO THE DEVELOPERS/MAINTAINERS OF THE biscuiteer PACKAGE: Please make sure to use the following settings in order to reproduce any error or warning you see on this page.
Package 182/1885HostnameOS / ArchINSTALLBUILDCHECKBUILD BIN
biscuiteer 1.3.0
"Jacob Morrison"
Snapshot Date: 2020-08-12 14:52:00 -0400 (Wed, 12 Aug 2020)
URL: https://git.bioconductor.org/packages/biscuiteer
Branch: master
Last Commit: 35ac8d6
Last Changed Date: 2020-04-27 15:31:52 -0400 (Mon, 27 Apr 2020)
malbec1 Linux (Ubuntu 18.04.4 LTS) / x86_64  OK  OK  WARNINGS UNNEEDED, same version exists in internal repository
nebbiolo1 Linux (Ubuntu 20.04.1 LTS) / x86_64  OK  OK  WARNINGS 
tokay1 Windows Server 2012 R2 Standard / x64  OK  OK  WARNINGS  OK UNNEEDED, same version exists in internal repository
merida1 macOS 10.14.6 Mojave / x86_64 [ OK ] OK  WARNINGS  OK UNNEEDED, same version exists in internal repository

Summary

Package: biscuiteer
Version: 1.3.0
Command: /Library/Frameworks/R.framework/Versions/Current/Resources/bin/R CMD INSTALL biscuiteer
StartedAt: 2020-08-12 17:40:18 -0400 (Wed, 12 Aug 2020)
EndedAt: 2020-08-12 17:41:36 -0400 (Wed, 12 Aug 2020)
EllapsedTime: 78.5 seconds
RetCode: 0
Status:  OK 

Command output

##############################################################################
##############################################################################
###
### Running command:
###
###   /Library/Frameworks/R.framework/Versions/Current/Resources/bin/R CMD INSTALL biscuiteer
###
##############################################################################
##############################################################################


* installing to library ‘/Library/Frameworks/R.framework/Versions/4.0/Resources/library’
* installing *source* package ‘biscuiteer’ ...
** using staged installation
** R
** data
** inst
** byte-compile and prepare package for lazy loading
Warning: replacing previous import ‘BiocParallel::bpstart’ by ‘QDNAseq::bpstart’ when loading ‘biscuiteer’
** help
*** installing help indices
** building package indices
** installing vignettes
   ‘biscuiteer.Rmd’ using ‘UTF-8’ 
** testing if installed package can be loaded from temporary location
Warning: replacing previous import ‘BiocParallel::bpstart’ by ‘QDNAseq::bpstart’ when loading ‘biscuiteer’
** testing if installed package can be loaded from final location
Warning: replacing previous import ‘BiocParallel::bpstart’ by ‘QDNAseq::bpstart’ when loading ‘biscuiteer’
** testing if installed package keeps a record of temporary installation path
* DONE (biscuiteer)